BEGIN:VCALENDAR
VERSION:2.0
PRODID:-//Phoenix Bioscience Core - ECPv6.15.20//NONSGML v1.0//EN
CALSCALE:GREGORIAN
METHOD:PUBLISH
X-ORIGINAL-URL:https://phoenixbiosciencecore.com
X-WR-CALDESC:Events for Phoenix Bioscience Core
REFRESH-INTERVAL;VALUE=DURATION:PT1H
X-Robots-Tag:noindex
X-PUBLISHED-TTL:PT1H
BEGIN:VTIMEZONE
TZID:America/Phoenix
BEGIN:STANDARD
TZOFFSETFROM:-0700
TZOFFSETTO:-0700
TZNAME:MST
DTSTART:20240101T000000
END:STANDARD
END:VTIMEZONE
BEGIN:VEVENT
DTSTART;TZID=America/Phoenix:20251202T160000
DTEND;TZID=America/Phoenix:20251202T180000
DTSTAMP:20260423T125430
CREATED:20251029T202147Z
LAST-MODIFIED:20251029T202147Z
UID:8704-1764691200-1764698400@phoenixbiosciencecore.com
SUMMARY:NAU Phoenix Bioscience Core Campus Tour
DESCRIPTION:  \n  \nIf an advanced degree in healthcare professions is your goal\, you are invited to join us for a campus tour and Q+A at NAU Phoenix Bioscience Core Campus.  Immediately following your tour\, you will have the opportunity to meet with the program coordinator from Athletic Training\, Occupational Therapy\, Physician Assistant Studies\, or Physical Therapy for program-specific information. \n  \nTuesday\, December 2nd \n4:00 pm – 6:00 pm \nIn Person \nNAU PBC \n 
URL:https://phoenixbiosciencecore.com/event/nau-phoenix-bioscience-core-campus-tour/
LOCATION:NAU Downtown Phoenix Campus\, 435 N 5th St\, Phoenix\, AZ\, 85004
CATEGORIES:Information Session,Networking
END:VEVENT
END:VCALENDAR