BEGIN:VCALENDAR
VERSION:2.0
PRODID:-//Phoenix Bioscience Core - ECPv6.15.20//NONSGML v1.0//EN
CALSCALE:GREGORIAN
METHOD:PUBLISH
X-ORIGINAL-URL:https://phoenixbiosciencecore.com
X-WR-CALDESC:Events for Phoenix Bioscience Core
REFRESH-INTERVAL;VALUE=DURATION:PT1H
X-Robots-Tag:noindex
X-PUBLISHED-TTL:PT1H
BEGIN:VTIMEZONE
TZID:America/Phoenix
BEGIN:STANDARD
TZOFFSETFROM:-0700
TZOFFSETTO:-0700
TZNAME:MST
DTSTART:20240101T000000
END:STANDARD
END:VTIMEZONE
BEGIN:VEVENT
DTSTART;TZID=America/Phoenix:20251205T080000
DTEND;TZID=America/Phoenix:20251205T170000
DTSTAMP:20260423T125443
CREATED:20251125T175958Z
LAST-MODIFIED:20251125T175958Z
UID:8864-1764921600-1764954000@phoenixbiosciencecore.com
SUMMARY:The Clinical Molecular Foundations of Multi-Omics Medicine
DESCRIPTION:Explore new medical technologies at this conference designed for clinicians. Participants will learn the latest in evidence-based precision medicine\, with actionable knowledge across the full spectrum of multi-omics and systems medicine. \nFrom this conference\, participants are funneled into advanced American Board of Precision Medicine certification programs to lead the future of personalized health care. \nThis event is hosted by the College of Health Solutions at ASU\, ABOPM\, and Theriome. \nCan’t attend in person? Join us virtually and still earn CME credits while engaging with world-class content and interactive sessions. \n  \nFriday\, December 5th \n8:00 am – 5:00 pm \nIn Person or Virtual \n850 PBC
URL:https://phoenixbiosciencecore.com/event/the-clinical-molecular-foundations-of-multi-omics-medicine/
LOCATION:850 PBC\, 850 N. 5th Street\, Phoenix\, AZ\, 85003\, United States
CATEGORIES:Conference,Information Session,Networking
END:VEVENT
BEGIN:VEVENT
DTSTART;TZID=America/Phoenix:20251205T120000
DTEND;TZID=America/Phoenix:20251205T130000
DTSTAMP:20260423T125443
CREATED:20251125T210137Z
LAST-MODIFIED:20251125T210137Z
UID:8879-1764936000-1764939600@phoenixbiosciencecore.com
SUMMARY:NAU Occupational Therapy Virtual Open House
DESCRIPTION:Interested in learning about our program? Join us for one of our upcoming Virtual Open Houses to learn more about our program and for an opportunity to ask questions \n  \nFriday\, December 5th \n12:00 pm – 1:00 pm \nVirtual
URL:https://phoenixbiosciencecore.com/event/nau-occupational-therapy-virtual-open-house/
LOCATION:Virtual
CATEGORIES:Academic,Information Session
END:VEVENT
BEGIN:VEVENT
DTSTART;TZID=America/Phoenix:20251205T180000
DTEND;TZID=America/Phoenix:20251205T210000
DTSTAMP:20260423T125443
CREATED:20251124T162449Z
LAST-MODIFIED:20251124T162449Z
UID:8841-1764957600-1764968400@phoenixbiosciencecore.com
SUMMARY:Santa's Country Jamboree
DESCRIPTION:Celebrate the season with us at First Friday Live: Santa’s Country Jamboree—an upbeat\, family-friendly evening in downtown. Enjoy live country music from the Copper State Band\, a sparkling solo skating performance by Nancy Pluta from Party on Ice\, vendors for a bit of holiday shopping\, and a cheerful visit with Santa. \nBring the whole family for cozy holiday fun—games\, crafts\, and sweet treats like hot cocoa and cider under twinkling lights. If you’re able\, please support Treasures 4 Teachers and bring non-perishable food items for St. Mary’s Food Bank. We can’t wait to celebrate with you! \n  \nFriday\, December 5th \n6:00 pm – 9:00 pm \nIn Person \nHerberger Theater Center
URL:https://phoenixbiosciencecore.com/event/santas-country-jamboree/
LOCATION:Herberger Theater Center\, 222 E Monroe St\, Phoenix\, AZ\, 85004
CATEGORIES:Celebration,Community,Festival
END:VEVENT
END:VCALENDAR