BEGIN:VCALENDAR
VERSION:2.0
PRODID:-//Phoenix Bioscience Core - ECPv6.15.20//NONSGML v1.0//EN
CALSCALE:GREGORIAN
METHOD:PUBLISH
X-ORIGINAL-URL:https://phoenixbiosciencecore.com
X-WR-CALDESC:Events for Phoenix Bioscience Core
REFRESH-INTERVAL;VALUE=DURATION:PT1H
X-Robots-Tag:noindex
X-PUBLISHED-TTL:PT1H
BEGIN:VTIMEZONE
TZID:America/Phoenix
BEGIN:STANDARD
TZOFFSETFROM:-0700
TZOFFSETTO:-0700
TZNAME:MST
DTSTART:20240101T000000
END:STANDARD
END:VTIMEZONE
BEGIN:VEVENT
DTSTART;TZID=America/Phoenix:20251208T113000
DTEND;TZID=America/Phoenix:20251208T123000
DTSTAMP:20260423T125430
CREATED:20251125T183348Z
LAST-MODIFIED:20251125T183348Z
UID:8867-1765193400-1765197000@phoenixbiosciencecore.com
SUMMARY:The Future of Health: AI- Driven Personalization in Fitness and mHealth
DESCRIPTION:  \nJoin us for The Future of Health: AI-Driven Personalization in Fitness and mHealth\, presented by the ASU Roybal Center and the Center for Innovation in Healthy and Resilient Aging. \nThis workshop\, led by Zan Gao\, an expert in technology-enabled health and fitness interventions\, explores how advancements in artificial intelligence (AI)\, mobile health (mHealth) applications\, wearable devices\, and virtual reality are transforming physical activity and wellness. \n  \nMonday\, December 8th \n11:30 am – 12:30 pm \nIn Person \nHealth North\, Rm 101
URL:https://phoenixbiosciencecore.com/event/the-future-of-health-ai-driven-personalization-in-fitness-and-mhealth/
LOCATION:Health North Building\, 550 N 3rd St\, Phoenix\, AZ\, 85004
CATEGORIES:Academic,Information Session,Research
END:VEVENT
END:VCALENDAR