BEGIN:VCALENDAR
VERSION:2.0
PRODID:-//Phoenix Bioscience Core - ECPv6.15.20//NONSGML v1.0//EN
CALSCALE:GREGORIAN
METHOD:PUBLISH
X-WR-CALNAME:Phoenix Bioscience Core
X-ORIGINAL-URL:https://phoenixbiosciencecore.com
X-WR-CALDESC:Events for Phoenix Bioscience Core
REFRESH-INTERVAL;VALUE=DURATION:PT1H
X-Robots-Tag:noindex
X-PUBLISHED-TTL:PT1H
BEGIN:VTIMEZONE
TZID:America/Phoenix
BEGIN:STANDARD
TZOFFSETFROM:-0700
TZOFFSETTO:-0700
TZNAME:MST
DTSTART:20240101T000000
END:STANDARD
END:VTIMEZONE
BEGIN:VEVENT
DTSTART;TZID=America/Phoenix:20251210T120000
DTEND;TZID=America/Phoenix:20251210T140000
DTSTAMP:20260423T125330
CREATED:20251125T222437Z
LAST-MODIFIED:20251125T222437Z
UID:8894-1765368000-1765375200@phoenixbiosciencecore.com
SUMMARY:2025 Winter Festival
DESCRIPTION:  \nThe Dean’s Office and the U of A College of Medicine – Phoenix Staff Council on Representation and Engagement warmly invite the college’s campus community to attend the Winter Festival — Wednesday\, December 10\, from 12:00 to 2:00 pm! Come spend some time outside with fellow Wildcats as we enjoy food\, music and games. \nLunch will be provided and activities will include: \n\nA photo booth.\nAn ugly sweater contest.\nHoliday-themed games.\nAnd more.\n\nThere will also be a pop-up shop with apparel for purchase from the U of A Campus Bookstore. The event will be held in the Grand Canyon of the Biomedical Sciences Partnership Building. Remember to RSVP. \nWe look forward to celebrating with you! \n  \nWednesday\, December 10th \n12:00 pm – 2:00 pm \nIn Person \nBiomedical Sciences Partnership Building
URL:https://phoenixbiosciencecore.com/event/2025-winter-festival/
LOCATION:Biomedical Sciences Partnership Building\, 475 North 5th St\, Phoenix\, AZ\, 85004
CATEGORIES:Celebration,Festival
END:VEVENT
BEGIN:VEVENT
DTSTART;TZID=America/Phoenix:20251210T160000
DTEND;TZID=America/Phoenix:20251210T170000
DTSTAMP:20260423T125330
CREATED:20251125T221301Z
LAST-MODIFIED:20251125T221301Z
UID:8891-1765382400-1765386000@phoenixbiosciencecore.com
SUMMARY:State of the College with Dean Fred Wondisford
DESCRIPTION:  \nJoin Dean Fred Wondisford\, MD\, MS\, MBA\, for a State of the College to discuss recent successes from the University of Arizona College of Medicine – Phoenix. Dean Wondisford also looks forward to sharing current updates\, as well as plans for the college’s future. \nPlease feel free to submit any questions you may have in advance. Dean Wondisford will address as many as he can during the session. \n  \nWednesday\, December 10th \n4:00 pm – 5:00 pm \nIn Person \nHealth Sciences Education Building\, Rm. C104
URL:https://phoenixbiosciencecore.com/event/state-of-the-college-with-dean-fred-wondisford/
LOCATION:Health Sciences Education Building (HSEB)\, 435 N. 5th St\, Phoenix\, AZ\, 85004
CATEGORIES:Information Session,Networking,Research,Showcase
END:VEVENT
END:VCALENDAR