BEGIN:VCALENDAR
VERSION:2.0
PRODID:-//Phoenix Bioscience Core - ECPv6.15.20//NONSGML v1.0//EN
CALSCALE:GREGORIAN
METHOD:PUBLISH
X-ORIGINAL-URL:https://phoenixbiosciencecore.com
X-WR-CALDESC:Events for Phoenix Bioscience Core
REFRESH-INTERVAL;VALUE=DURATION:PT1H
X-Robots-Tag:noindex
X-PUBLISHED-TTL:PT1H
BEGIN:VTIMEZONE
TZID:America/Phoenix
BEGIN:STANDARD
TZOFFSETFROM:-0700
TZOFFSETTO:-0700
TZNAME:MST
DTSTART:20240101T000000
END:STANDARD
END:VTIMEZONE
BEGIN:VEVENT
DTSTART;TZID=America/Phoenix:20251211T080000
DTEND;TZID=America/Phoenix:20251211T170000
DTSTAMP:20260423T125525
CREATED:20251124T163302Z
LAST-MODIFIED:20251124T163302Z
UID:8845-1765440000-1765472400@phoenixbiosciencecore.com
SUMMARY:Wild West Holiday Market
DESCRIPTION:  \nShop from 15+ local vendors\, enjoy live music with festive drinks and complimentary bites\, and snap a photo with Cowboy Santa on the hotel’s rooftop terrace (5th Floor Skyline Terrace)! \n  \nThursday\, December 11th \n4:00 pm – 8:00 pm \nIn Person \nRenaissance Phoenix Downtown Hotel
URL:https://phoenixbiosciencecore.com/event/wild-west-holiday-market/
LOCATION:Renaissance Phoenix Downtown Hotel\, 100 N 1st St\, Phoenix\, AZ\, 85004
CATEGORIES:Celebration,Community,Festival
END:VEVENT
BEGIN:VEVENT
DTSTART;TZID=America/Phoenix:20251211T110000
DTEND;TZID=America/Phoenix:20251211T130000
DTSTAMP:20260423T125525
CREATED:20251029T211558Z
LAST-MODIFIED:20251029T211558Z
UID:8716-1765450800-1765458000@phoenixbiosciencecore.com
SUMMARY:AZBio Trailblazers Awards
DESCRIPTION:Join AZBio and members of the Arizona Business and Bioscience Community for a special luncheon to honor our Arizona Legislators and State and Local Elected Officials who have made it possible for the Arizona Bioscience Industry to gain national recognition\, build capital infrastructure\, and take its place as a leader in both scientific discovery and job growth. \n\n\n\nAZBio Trailblazer Honorees: \nEach year\, AZBio looks back across the legislative session to identify those leaders whose actions and active engagement support the growth of Arizona’s life science and healthcare industry and help to ensure the people of Arizona benefit from its success.  Scores are then tallied\, and the top ten legislative leaders are named the year’s Trailblazers. \nThe Arizona Bioindustry Association (AZBio) will honor  Arizona Legislators on December 11\, 2025\, for their service to the community and for championing research\, education\, innovation\, the growth of Arizona’s bioscience sector\, and ensuring that Arizona patients benefit from life science innovation.  The honorees are recognized by the leaders of Arizona’s bioscience and healthcare community at the 2024 AZBio Trailblazer Awards during a special appreciation luncheon for members\, elected officials\, and legislators. \n  \n\n  \nThursday\, Decmember 11th \n11:00 am – 1:00 pm \nIn Person \nPhoenix Country Club
URL:https://phoenixbiosciencecore.com/event/azbio-trailblazers-awards/
LOCATION:Phoenix Country Club\, 2901 N. 7th Street\, Phoenix\, AZ\, 85014
CATEGORIES:Award Ceremony,Networking,Program
END:VEVENT
BEGIN:VEVENT
DTSTART;TZID=America/Phoenix:20251211T130000
DTEND;TZID=America/Phoenix:20251211T140000
DTSTAMP:20260423T125525
CREATED:20251125T213833Z
LAST-MODIFIED:20251125T213833Z
UID:8882-1765458000-1765461600@phoenixbiosciencecore.com
SUMMARY:NAU Athletic Training Virtual Information Session
DESCRIPTION:Join the NAU MSAT Program for a virtual open house for an opportunity to ask questions and learn more about the program. \n  \nThursday\, December 11th \n1:00 pm – 2:oo pm \nVirtual
URL:https://phoenixbiosciencecore.com/event/nau-athletic-training-virtual-information-session/
LOCATION:Virtual
CATEGORIES:Academic,Information Session
END:VEVENT
END:VCALENDAR