BEGIN:VCALENDAR
VERSION:2.0
PRODID:-//Phoenix Bioscience Core - ECPv6.15.20//NONSGML v1.0//EN
CALSCALE:GREGORIAN
METHOD:PUBLISH
X-ORIGINAL-URL:https://phoenixbiosciencecore.com
X-WR-CALDESC:Events for Phoenix Bioscience Core
REFRESH-INTERVAL;VALUE=DURATION:PT1H
X-Robots-Tag:noindex
X-PUBLISHED-TTL:PT1H
BEGIN:VTIMEZONE
TZID:America/Phoenix
BEGIN:STANDARD
TZOFFSETFROM:-0700
TZOFFSETTO:-0700
TZNAME:MST
DTSTART:20240101T000000
END:STANDARD
END:VTIMEZONE
BEGIN:VEVENT
DTSTART;TZID=America/Phoenix:20251213T000000
DTEND;TZID=America/Phoenix:20251214T235959
DTSTAMP:20260423T125442
CREATED:20251124T165622Z
LAST-MODIFIED:20251124T165622Z
UID:8852-1765584000-1765756799@phoenixbiosciencecore.com
SUMMARY:Phoenix Festival of the Arts
DESCRIPTION:On December 13–14\, 2025\, the Phoenix Center for the Arts proudly presents the 14th Annual Phoenix Festival of the Arts — a vibrant\, multicultural celebration of artistic expression in the heart of downtown Phoenix. \nSet in scenic Margaret T. Hance Park\, this two-day festival features: \n\nLive performances from local artists and cultural groups\nInteractive art experiences and immersive demonstrations\n150+ local artists and artisans\nFood trucks with delicious local bites\nA hands-on Family Zone with free activities and entertainment\nFundraising events including raffles\, silent auctions\, and more\n\n  \nSaturday\, December 13th – Sunday\, December 14th \nHance Park
URL:https://phoenixbiosciencecore.com/event/phoenix-festival-of-the-arts/
LOCATION:Hance Park\, 67 W Culver St\, Phoenix\, AZ\, 85003
CATEGORIES:Celebration,Community,Festival
END:VEVENT
BEGIN:VEVENT
DTSTART;TZID=America/Phoenix:20251214T000000
DTEND;TZID=America/Phoenix:20251214T235959
DTSTAMP:20260423T125442
CREATED:20250819T174127Z
LAST-MODIFIED:20250819T174127Z
UID:7910-1765670400-1765756799@phoenixbiosciencecore.com
SUMMARY:Hanukkah Begins
DESCRIPTION:
URL:https://phoenixbiosciencecore.com/event/hanukkah-begins/
LOCATION:AZ
END:VEVENT
BEGIN:VEVENT
DTSTART;TZID=America/Phoenix:20251214T120000
DTEND;TZID=America/Phoenix:20251214T180000
DTSTAMP:20260423T125442
CREATED:20251124T170904Z
LAST-MODIFIED:20251124T170904Z
UID:8857-1765713600-1765735200@phoenixbiosciencecore.com
SUMMARY:AZ Tamale Festival
DESCRIPTION:  \nThe 3rd Annual Tamale Festival will include a variety of tamale vendors\, a mercado for holiday shopping\, photos with Santa\, and a 1\,000 toy giveaway. There will also be local performances\, ballet folklórico\, and mariachis. \n  \nSunday\, December 14th \n12:00 pm – 6:00 pm \nIn person \n3rd St & Monroe St
URL:https://phoenixbiosciencecore.com/event/az-tamale-festival/
LOCATION:3rd St & Monroe St
CATEGORIES:Celebration,Community,Festival
END:VEVENT
END:VCALENDAR