BEGIN:VCALENDAR
VERSION:2.0
PRODID:-//Phoenix Bioscience Core - ECPv6.15.20//NONSGML v1.0//EN
CALSCALE:GREGORIAN
METHOD:PUBLISH
X-WR-CALNAME:Phoenix Bioscience Core
X-ORIGINAL-URL:https://phoenixbiosciencecore.com
X-WR-CALDESC:Events for Phoenix Bioscience Core
REFRESH-INTERVAL;VALUE=DURATION:PT1H
X-Robots-Tag:noindex
X-PUBLISHED-TTL:PT1H
BEGIN:VTIMEZONE
TZID:America/Phoenix
BEGIN:STANDARD
TZOFFSETFROM:-0700
TZOFFSETTO:-0700
TZNAME:MST
DTSTART:20240101T000000
END:STANDARD
END:VTIMEZONE
BEGIN:VEVENT
DTSTART;TZID=America/Phoenix:20251219T183000
DTEND;TZID=America/Phoenix:20251219T200000
DTSTAMP:20260423T125329
CREATED:20251215T175428Z
LAST-MODIFIED:20251215T175428Z
UID:8932-1766169000-1766174400@phoenixbiosciencecore.com
SUMMARY:Ayman Fanous: Solo Guitar Recital
DESCRIPTION:  \nThe Department of Psychiatry at the University of Arizona College of Medicine – Phoenix and Banner – University Medical Center Phoenix is proudly hosting a Wellness Event — free and open to students\, faculty\, residents and staff. Light refreshments will be provided. \nPerformance by Ayman Fanous\, MD\nAyman Fanous\, MD\, chair of the Department of Psychiatry\, is an accomplished free-form jazz musician. He plays classical and electric guitar and bouzouki\, drawing influences from musical traditions around the world. He has led ensembles ranging from duos to sextets with world-renowned jazz and improvisational musicians including cellist Frances-Marie Uitti and New York musicians William Parker\, Joe McPhee and Elliott Sharp. \nProgram\n\nSpanish Guitar Improvisation.\nElectric Guitar Improvisation (Clean).\nElectric Guitar Improvisation (with Distortion).\nGreek Bouzouki Improvisation.\n\n  \nFriday\, December 19th \n6:30 pm – 8:00 pm \nIn Person \nVirginia Piper Auditorium
URL:https://phoenixbiosciencecore.com/event/ayman-fanous-solo-guitar-recital/
LOCATION:Virginia Piper Auditorium\, 600 E. Van Buren St.\, Phoenix\, AZ\, 85004
CATEGORIES:Community,Showcase
END:VEVENT
END:VCALENDAR