BEGIN:VCALENDAR
VERSION:2.0
PRODID:-//Phoenix Bioscience Core - ECPv6.15.20//NONSGML v1.0//EN
CALSCALE:GREGORIAN
METHOD:PUBLISH
X-WR-CALNAME:Phoenix Bioscience Core
X-ORIGINAL-URL:https://phoenixbiosciencecore.com
X-WR-CALDESC:Events for Phoenix Bioscience Core
REFRESH-INTERVAL;VALUE=DURATION:PT1H
X-Robots-Tag:noindex
X-PUBLISHED-TTL:PT1H
BEGIN:VTIMEZONE
TZID:America/Phoenix
BEGIN:STANDARD
TZOFFSETFROM:-0700
TZOFFSETTO:-0700
TZNAME:MST
DTSTART:20250101T000000
END:STANDARD
END:VTIMEZONE
BEGIN:VEVENT
DTSTART;TZID=America/Phoenix:20260105T080000
DTEND;TZID=America/Phoenix:20260105T170000
DTSTAMP:20260423T112046
CREATED:20260105T185043Z
LAST-MODIFIED:20260105T185043Z
UID:8992-1767600000-1767632400@phoenixbiosciencecore.com
SUMMARY:Caregiving and Self-Care in the New Year
DESCRIPTION:  \nThe new year offers chances to set boundaries and goals that support both caregiving responsibilities and personal well-being. This workshop provides practical strategies for defining actionable goals\, prioritizing self-care\, and caring for others while maintaining sustainable balance throughout the year. \nQuestions: Contact U of A Life & Work Connections. \n  \nTuesday\, January 13th \n11:00 am – 12:00 pm
URL:https://phoenixbiosciencecore.com/event/caregiving-and-self-care-in-the-new-year/
LOCATION:AZ
CATEGORIES:Information Session,Program,Research
END:VEVENT
END:VCALENDAR