BEGIN:VCALENDAR
VERSION:2.0
PRODID:-//Phoenix Bioscience Core - ECPv6.15.20//NONSGML v1.0//EN
CALSCALE:GREGORIAN
METHOD:PUBLISH
X-WR-CALNAME:Phoenix Bioscience Core
X-ORIGINAL-URL:https://phoenixbiosciencecore.com
X-WR-CALDESC:Events for Phoenix Bioscience Core
REFRESH-INTERVAL;VALUE=DURATION:PT1H
X-Robots-Tag:noindex
X-PUBLISHED-TTL:PT1H
BEGIN:VTIMEZONE
TZID:America/Phoenix
BEGIN:STANDARD
TZOFFSETFROM:-0700
TZOFFSETTO:-0700
TZNAME:MST
DTSTART:20250101T000000
END:STANDARD
END:VTIMEZONE
BEGIN:VEVENT
DTSTART;TZID=America/Phoenix:20260108T200000
DTEND;TZID=America/Phoenix:20260108T220000
DTSTAMP:20260423T112048
CREATED:20260105T163736Z
LAST-MODIFIED:20260105T163736Z
UID:8964-1767902400-1767909600@phoenixbiosciencecore.com
SUMMARY:Drag LOTERÍA vs BINGO
DESCRIPTION:Where drag\, laughter\, and friendly chaos collide! Hosted by the fabulous Adriana Galliano & DJ Image\, this is NOT your average bingo night… it’s a full-on experience you don’t wanna miss! With live drag performances\, bonus rounds and surprise games\, drag comedy and audience interactions\, and amazing prizes. \nFree to play\, no tickets required!
URL:https://phoenixbiosciencecore.com/event/drag-loteria-vs-bingo/
LOCATION:The Pemberton\, 1121 N 2nd St\, Phoenix\, AZ\, 85004
CATEGORIES:Celebration
END:VEVENT
END:VCALENDAR