BEGIN:VCALENDAR
VERSION:2.0
PRODID:-//Phoenix Bioscience Core - ECPv6.15.20//NONSGML v1.0//EN
CALSCALE:GREGORIAN
METHOD:PUBLISH
X-ORIGINAL-URL:https://phoenixbiosciencecore.com
X-WR-CALDESC:Events for Phoenix Bioscience Core
REFRESH-INTERVAL;VALUE=DURATION:PT1H
X-Robots-Tag:noindex
X-PUBLISHED-TTL:PT1H
BEGIN:VTIMEZONE
TZID:America/Phoenix
BEGIN:STANDARD
TZOFFSETFROM:-0700
TZOFFSETTO:-0700
TZNAME:MST
DTSTART:20250101T000000
END:STANDARD
END:VTIMEZONE
BEGIN:VEVENT
DTSTART;TZID=America/Phoenix:20260113T173000
DTEND;TZID=America/Phoenix:20260113T193000
DTSTAMP:20260423T112057
CREATED:20251215T180008Z
LAST-MODIFIED:20251215T180008Z
UID:8936-1768325400-1768332600@phoenixbiosciencecore.com
SUMMARY:Women in Medicine and Science Winter Networking Event
DESCRIPTION:Join us in person to connect\, share stories\, and empower women rocking medicine and science!\n\n\n\nWomen in Medicine and Science Winter Networking Event: \nWomen in Medicine and Science and the Office of Health Care Advancement invite the College of Medicine – Phoenix community to attend the WIMS Winter Networking Event. Join us and enjoy refreshments\, conversation\, and meeting new people. \n\n\n  \nTuesday\, January 13th \n5:30 pm – 7:30 pm \nVirginia Piper Auditorium \nIn Person
URL:https://phoenixbiosciencecore.com/event/women-in-medicine-and-science-winter-networking-event/
LOCATION:Virginia Piper Auditorium\, 600 E. Van Buren St.\, Phoenix\, AZ\, 85004
CATEGORIES:Networking,Professional Development,Program
END:VEVENT
END:VCALENDAR