BEGIN:VCALENDAR
VERSION:2.0
PRODID:-//Phoenix Bioscience Core - ECPv6.15.20//NONSGML v1.0//EN
CALSCALE:GREGORIAN
METHOD:PUBLISH
X-ORIGINAL-URL:https://phoenixbiosciencecore.com
X-WR-CALDESC:Events for Phoenix Bioscience Core
REFRESH-INTERVAL;VALUE=DURATION:PT1H
X-Robots-Tag:noindex
X-PUBLISHED-TTL:PT1H
BEGIN:VTIMEZONE
TZID:America/Phoenix
BEGIN:STANDARD
TZOFFSETFROM:-0700
TZOFFSETTO:-0700
TZNAME:MST
DTSTART:20250101T000000
END:STANDARD
END:VTIMEZONE
BEGIN:VEVENT
DTSTART;TZID=America/Phoenix:20260121T073000
DTEND;TZID=America/Phoenix:20260121T103000
DTSTAMP:20260423T113529
CREATED:20260105T180801Z
LAST-MODIFIED:20260105T180801Z
UID:8981-1768980600-1768991400@phoenixbiosciencecore.com
SUMMARY:ASU Employee Wellness 2026: Mini health screening — Tempe campus
DESCRIPTION:Benefits-eligible Arizona State University employees can get a 30-minute health screening. Several tests are free of charge\, including readings on cholesterol\, blood pressure and triglycerides. \nOther tests are available for as low as a $25 copay. Cash\, check\, MasterCard or Visa are accepted. Bring your ASU ID and health insurance cards. \nFasting for eight hours before the venous draw is required. Employees receive results in the mail within seven to 10 business days. Read more about how the tests are conducted online. \nThis event is HIP-endorsed\, a program available to the benefits-eligible state of Arizona employees. Find out more about the incentive-based HIP program online. \nASU employees receive one free mini-health screening per calendar year. Additional screenings are available for a fee paid directly to Healthwaves. \nWednesday\, January 21st \n7:30 am – 10:30 am \nIn Person \nMemorial Union 228
URL:https://phoenixbiosciencecore.com/event/asu-employee-wellness-2026-mini-health-screening-tempe-campus/
LOCATION:Memorial Union 228\, 301 E Orange St.\, Tempe\, AZ\, 85281
CATEGORIES:Health and Wellness,Health Screening
END:VEVENT
END:VCALENDAR