BEGIN:VCALENDAR
VERSION:2.0
PRODID:-//Phoenix Bioscience Core - ECPv6.15.20//NONSGML v1.0//EN
CALSCALE:GREGORIAN
METHOD:PUBLISH
X-WR-CALNAME:Phoenix Bioscience Core
X-ORIGINAL-URL:https://phoenixbiosciencecore.com
X-WR-CALDESC:Events for Phoenix Bioscience Core
REFRESH-INTERVAL;VALUE=DURATION:PT1H
X-Robots-Tag:noindex
X-PUBLISHED-TTL:PT1H
BEGIN:VTIMEZONE
TZID:America/Phoenix
BEGIN:STANDARD
TZOFFSETFROM:-0700
TZOFFSETTO:-0700
TZNAME:MST
DTSTART:20250101T000000
END:STANDARD
END:VTIMEZONE
BEGIN:VEVENT
DTSTART;TZID=America/Phoenix:20260216T000000
DTEND;TZID=America/Phoenix:20260216T235959
DTSTAMP:20260423T095723
CREATED:20260106T180421Z
LAST-MODIFIED:20260106T180421Z
UID:9011-1771200000-1771286399@phoenixbiosciencecore.com
SUMMARY:Presidents' Day
DESCRIPTION:
URL:https://phoenixbiosciencecore.com/event/presidents-day/
LOCATION:AZ
END:VEVENT
BEGIN:VEVENT
DTSTART;TZID=America/Phoenix:20260216T100000
DTEND;TZID=America/Phoenix:20260216T140000
DTSTAMP:20260423T095723
CREATED:20260210T174217Z
LAST-MODIFIED:20260210T174217Z
UID:9246-1771236000-1771250400@phoenixbiosciencecore.com
SUMMARY:Phlebotomy Training and Community Blood Drive
DESCRIPTION:Join the College of Health Solutions for free Phlebotomy Training and Community Blood Drive! Phlebotomy is an essential skill used in clinical settings. Learn how to draw blood through hands-on guided training led by a certified instructor. \nWhile there\, donate blood to save a life! There is a critical need for blood donations. An hour of your time can make a world of difference. \n\nMonday\, February 16th \n10:00 am – 2:00 pm \nIn Person \nHealth North Courtyard
URL:https://phoenixbiosciencecore.com/event/phlebotomy-training-and-community-blood-drive/
LOCATION:Health North Courtyard\, 550 N 3rd St.\, Phoenix\, AZ\, 85004
CATEGORIES:Blood Drive,Community,Learning Oppotunity
END:VEVENT
END:VCALENDAR