BEGIN:VCALENDAR
VERSION:2.0
PRODID:-//Phoenix Bioscience Core - ECPv6.15.20//NONSGML v1.0//EN
CALSCALE:GREGORIAN
METHOD:PUBLISH
X-ORIGINAL-URL:https://phoenixbiosciencecore.com
X-WR-CALDESC:Events for Phoenix Bioscience Core
REFRESH-INTERVAL;VALUE=DURATION:PT1H
X-Robots-Tag:noindex
X-PUBLISHED-TTL:PT1H
BEGIN:VTIMEZONE
TZID:America/Phoenix
BEGIN:STANDARD
TZOFFSETFROM:-0700
TZOFFSETTO:-0700
TZNAME:MST
DTSTART:20250101T000000
END:STANDARD
END:VTIMEZONE
BEGIN:VEVENT
DTSTART;TZID=America/Phoenix:20260217T130000
DTEND;TZID=America/Phoenix:20260217T150000
DTSTAMP:20260423T095845
CREATED:20260210T180818Z
LAST-MODIFIED:20260210T180818Z
UID:9249-1771333200-1771340400@phoenixbiosciencecore.com
SUMMARY:Hablemos de salud - Polytechnic campus
DESCRIPTION:¡Join us at our Hablemos de salud table! \nDiscover the importance of Spanish in health care through this fun and interactive tabling event. Learn key Spanish medical phrases\, and pick up take-home resources to help you continue your language learning journey. \nWhether you’re a beginner or already familiar with Spanish\, this is a great opportunity to strengthen your communication skills and cultural awareness as a future health professional. \n\n\n🗣️ Learn key Spanish medical phrases. \n🎲 Join the fun with an interactive Spanish game. \n📘 Pick up take-home resources to continue your language learning journey. \n\n\n\nTuesday\, February 17th \n1:00 pm – 3:00 pm \nIn Person \nSantan Hall Breezeway
URL:https://phoenixbiosciencecore.com/event/hablemos-de-salud-polytechnic-campus/
LOCATION:Santan Hall Breezeway\, 7231 E. Sonoran Arroyo Mall\, Mesa\, AZ\, 85212
CATEGORIES:Community,Learning Oppotunity,Program
END:VEVENT
END:VCALENDAR