BEGIN:VCALENDAR
VERSION:2.0
PRODID:-//Phoenix Bioscience Core - ECPv6.15.20//NONSGML v1.0//EN
CALSCALE:GREGORIAN
METHOD:PUBLISH
X-WR-CALNAME:Phoenix Bioscience Core
X-ORIGINAL-URL:https://phoenixbiosciencecore.com
X-WR-CALDESC:Events for Phoenix Bioscience Core
REFRESH-INTERVAL;VALUE=DURATION:PT1H
X-Robots-Tag:noindex
X-PUBLISHED-TTL:PT1H
BEGIN:VTIMEZONE
TZID:America/Phoenix
BEGIN:STANDARD
TZOFFSETFROM:-0700
TZOFFSETTO:-0700
TZNAME:MST
DTSTART:20250101T000000
END:STANDARD
END:VTIMEZONE
BEGIN:VEVENT
DTSTART;TZID=America/Phoenix:20260218T120000
DTEND;TZID=America/Phoenix:20260218T130000
DTSTAMP:20260423T095734
CREATED:20260210T181335Z
LAST-MODIFIED:20260210T181335Z
UID:9254-1771416000-1771419600@phoenixbiosciencecore.com
SUMMARY:College Connect Series: College of Health Solutions Scholarships
DESCRIPTION:Did you know there are scholarships specifically available to students attending the College of Health Solutions? Learn more about the scholarships\, their specific requirements\, and how to apply by attending the latest installment of the College Connect series hosted by Shanan Bouchard. \nThe College Connect Series is a virtual initiative hosted by ASU’s College of Health Solutions\, designed to connect students with a wide range of campus resources\, services\, and engagement opportunities. These sessions aim to increase student awareness\, encourage involvement\, and foster connections across the university. Recordings are made available to ensure accessibility for students who are unable to attend live. \n\nWednesday\, February 18th \n12:00 pm – 1:00 pm \nVirtual
URL:https://phoenixbiosciencecore.com/event/college-connect-series-college-of-health-solutions-scholarships/
LOCATION:Virtual
CATEGORIES:Academic,Information Session,Program
END:VEVENT
END:VCALENDAR