BEGIN:VCALENDAR
VERSION:2.0
PRODID:-//Phoenix Bioscience Core - ECPv6.15.20//NONSGML v1.0//EN
CALSCALE:GREGORIAN
METHOD:PUBLISH
X-ORIGINAL-URL:https://phoenixbiosciencecore.com
X-WR-CALDESC:Events for Phoenix Bioscience Core
REFRESH-INTERVAL;VALUE=DURATION:PT1H
X-Robots-Tag:noindex
X-PUBLISHED-TTL:PT1H
BEGIN:VTIMEZONE
TZID:America/Phoenix
BEGIN:STANDARD
TZOFFSETFROM:-0700
TZOFFSETTO:-0700
TZNAME:MST
DTSTART:20250101T000000
END:STANDARD
END:VTIMEZONE
BEGIN:VEVENT
DTSTART;TZID=America/Phoenix:20260219T120000
DTEND;TZID=America/Phoenix:20260219T130000
DTSTAMP:20260423T100004
CREATED:20260211T180309Z
LAST-MODIFIED:20260211T180309Z
UID:9258-1771502400-1771506000@phoenixbiosciencecore.com
SUMMARY:Health Talks — Movement\, Balance and Safety: Falls in Older Adults with Parkinson’s Disease
DESCRIPTION:Join us for an engaging webinar featuring leading health experts as they explore the critical connection between Parkinson’s disease and falls in older adults. This session will examine common gait and balance deficits in people with Parkinson’s disease\, how these challenges increase fall risk and affect quality of life\, and the clinical strategies most often used to improve function and safety. Designed for clinicians\, caregivers\, and health professionals\, this webinar offers practical insights you can apply to better support this growing population. \n  \nThursday\, February 19th \n12:00 pm – 1:00 pm \nVirtual
URL:https://phoenixbiosciencecore.com/event/health-talks-movement-balance-and-safety-falls-in-older-adults-with-parkinsons-disease/
LOCATION:Virtual
CATEGORIES:Health Talks,Research,Webinar
END:VEVENT
BEGIN:VEVENT
DTSTART;TZID=America/Phoenix:20260219T140000
DTEND;TZID=America/Phoenix:20260219T170000
DTSTAMP:20260423T100004
CREATED:20260211T180903Z
LAST-MODIFIED:20260211T180903Z
UID:9261-1771509600-1771520400@phoenixbiosciencecore.com
SUMMARY:Internship and Career Exploration Fair
DESCRIPTION:It is always a good time to prepare for your future\, and the College of Health Solutions Internship and Career Exploration Fair is here to help you! \nInternships provide hands-on experience\, enhance your resume\, and make you more competitive for professional school admissions. Even if an internship is not required for your degree program\, this is your chance to connect with employers from across the Valley. Visit recruiters from hospitals\, clinics\, community health organizations\, physical therapy\, and athletic training offices. Connect with an employer for you\, whether you are looking for an internship or even a full-time job. \nRegister now to take your next step toward a career as a health professional! \nThis event is open to any College of Health Solutions student. \n\nThursday\, February 19th \n2:00 pm – 5:00 pm \nIn Person \nA.E. England Building
URL:https://phoenixbiosciencecore.com/event/internship-and-career-exploration-fair/
LOCATION:A.E. England Building\, 424 N Central Ave\, Phoenix\, AZ\, 85004
CATEGORIES:Academic,Networking,Professional Development,Research,Showcase
END:VEVENT
END:VCALENDAR