BEGIN:VCALENDAR
VERSION:2.0
PRODID:-//Phoenix Bioscience Core - ECPv6.15.20//NONSGML v1.0//EN
CALSCALE:GREGORIAN
METHOD:PUBLISH
X-ORIGINAL-URL:https://phoenixbiosciencecore.com
X-WR-CALDESC:Events for Phoenix Bioscience Core
REFRESH-INTERVAL;VALUE=DURATION:PT1H
X-Robots-Tag:noindex
X-PUBLISHED-TTL:PT1H
BEGIN:VTIMEZONE
TZID:America/Phoenix
BEGIN:STANDARD
TZOFFSETFROM:-0700
TZOFFSETTO:-0700
TZNAME:MST
DTSTART:20250101T000000
END:STANDARD
END:VTIMEZONE
BEGIN:VEVENT
DTSTART;TZID=America/Phoenix:20260220T090000
DTEND;TZID=America/Phoenix:20260220T170000
DTSTAMP:20260423T095856
CREATED:20260129T204625Z
LAST-MODIFIED:20260129T204625Z
UID:9186-1771578000-1771606800@phoenixbiosciencecore.com
SUMMARY:Arizona Metabolomics Symposium 2026
DESCRIPTION:Enhance your knowledge\, skills\, and abilities at the Metabolomics Symposium. \nIn order to promote metabolomics and research collaborations toward clinical testing and improving the health of all Arizonans\, researchers and clinicians in fields related to metabolism and metabolites will gather to discuss and foster collaboration\, networking\, and advancing the collective understanding of metabolomics. \nJoin us for this no-cost\, in-person event as we spend the day exploring the development and application of metabolomics in areas such as nutrition\, disease diagnosis\, and cellular mechanism studies. \n  \nContact: Haiwei Gu at haiweigu@asu.edu with any questions. \n  \nFriday\, February 20th \n9:00 am – 5:00 pm \nIn Person \n850 PBC
URL:https://phoenixbiosciencecore.com/event/arizona-metabolomics-symposium-2026/
LOCATION:850 PBC\, 850 N. 5th Street\, Phoenix\, AZ\, 85003\, United States
CATEGORIES:Health and Wellness,Program,Research
END:VEVENT
END:VCALENDAR