BEGIN:VCALENDAR
VERSION:2.0
PRODID:-//Phoenix Bioscience Core - ECPv6.15.20//NONSGML v1.0//EN
CALSCALE:GREGORIAN
METHOD:PUBLISH
X-WR-CALNAME:Phoenix Bioscience Core
X-ORIGINAL-URL:https://phoenixbiosciencecore.com
X-WR-CALDESC:Events for Phoenix Bioscience Core
REFRESH-INTERVAL;VALUE=DURATION:PT1H
X-Robots-Tag:noindex
X-PUBLISHED-TTL:PT1H
BEGIN:VTIMEZONE
TZID:America/Phoenix
BEGIN:STANDARD
TZOFFSETFROM:-0700
TZOFFSETTO:-0700
TZNAME:MST
DTSTART:20250101T000000
END:STANDARD
END:VTIMEZONE
BEGIN:VEVENT
DTSTART;TZID=America/Phoenix:20260224T090000
DTEND;TZID=America/Phoenix:20260224T100000
DTSTAMP:20260423T080231
CREATED:20260105T173544Z
LAST-MODIFIED:20260105T173544Z
UID:8974-1771923600-1771927200@phoenixbiosciencecore.com
SUMMARY:Genetic Insight to Diagnostic Impact:  A Brief History and Bold Future
DESCRIPTION:  \nThe first Biomedical Diagnostics Program – Alumni Webinar series of 2026!  The free 60-minute webinar will feature 2018 BMD alumna\, Cindy Azevedo\, and will take place on February 24\, 2026\, at 9AM PT / Noon ET. \n\nPlease note that the webinar Zoom link and meeting reminder will be sent out after you register.\n\nFor more information about the Biomedical Diagnostics program\, please visit: www.links.asu.edu/BMDatCHS\n\n\nTuesday\, February 24th\n\n9:00 am – 10:00 am\n\nVirtual
URL:https://phoenixbiosciencecore.com/event/genetic-insight-to-diagnostic-impact-a-brief-history-and-bold-future/
LOCATION:Virtual
CATEGORIES:Academic,Information Session,Research
END:VEVENT
BEGIN:VEVENT
DTSTART;TZID=America/Phoenix:20260224T130000
DTEND;TZID=America/Phoenix:20260224T150000
DTSTAMP:20260423T080231
CREATED:20260211T182538Z
LAST-MODIFIED:20260211T182538Z
UID:9269-1771938000-1771945200@phoenixbiosciencecore.com
SUMMARY:Hablemos de salud - West Valley campus
DESCRIPTION:¡Join us at our Hablemos de salud table! \nDiscover the importance of Spanish in health care through this fun and interactive tabling event. Learn key Spanish medical phrases\, and pick up take-home resources to help you continue your language learning journey. \nWhether you’re a beginner or already familiar with Spanish\, this is a great opportunity to strengthen your communication skills and cultural awareness as a future health professional. \n\nTuesday\, February 24th \n1:00 pm – 3:00 pm \nIn Person \nFletcher Plaza
URL:https://phoenixbiosciencecore.com/event/hablemos-de-salud-west-valley-campus/
LOCATION:Fletcher Plaza\, 4701 W. Thunderbird Rd.\, Glendale\, AZ\, 85306
CATEGORIES:Community,Health and Wellness,Learning Oppotunity,Research
END:VEVENT
END:VCALENDAR