BEGIN:VCALENDAR
VERSION:2.0
PRODID:-//Phoenix Bioscience Core - ECPv6.15.20//NONSGML v1.0//EN
CALSCALE:GREGORIAN
METHOD:PUBLISH
X-WR-CALNAME:Phoenix Bioscience Core
X-ORIGINAL-URL:https://phoenixbiosciencecore.com
X-WR-CALDESC:Events for Phoenix Bioscience Core
REFRESH-INTERVAL;VALUE=DURATION:PT1H
X-Robots-Tag:noindex
X-PUBLISHED-TTL:PT1H
BEGIN:VTIMEZONE
TZID:America/Phoenix
BEGIN:STANDARD
TZOFFSETFROM:-0700
TZOFFSETTO:-0700
TZNAME:MST
DTSTART:20250101T000000
END:STANDARD
END:VTIMEZONE
BEGIN:VEVENT
DTSTART;TZID=America/Phoenix:20260225T083000
DTEND;TZID=America/Phoenix:20260225T143000
DTSTAMP:20260423T080230
CREATED:20260128T183821Z
LAST-MODIFIED:20260128T183821Z
UID:9149-1772008200-1772029800@phoenixbiosciencecore.com
SUMMARY:Fifth Annual Cancer Prevention and Control Workshop
DESCRIPTION:  \nJoin the ASU College of Health Solutions Cancer Prevention and Control Translational Team for a one-day\, in-person workshop featuring new research and community support efforts by Arizona leaders who share an interest in preventing and controlling cancer. The goal of this workshop is to enhance community connections\, research collaborations and student engagement that advance cancer prevention and control. The workshop is free of charge for all attendees. \nBreakfast and lunch will be provided at no charge. \nParking validation will be provided for attendees who are not based on the ASU Downtown Phoenix Campus. \n  \nContact Dorothy Sears at dorothy.sears@asu.edu with any questions \n  \nWednesday\, February 25th \n8:30 am – 2:30 pm \nIn Person \n850 PBC
URL:https://phoenixbiosciencecore.com/event/fifth-annual-cancer-prevention-and-control-workshop/
LOCATION:850 PBC\, 850 N. 5th Street\, Phoenix\, AZ\, 85003\, United States
CATEGORIES:Community,Health and Wellness,Information Session,Research
END:VEVENT
BEGIN:VEVENT
DTSTART;TZID=America/Phoenix:20260225T090000
DTEND;TZID=America/Phoenix:20260225T143000
DTSTAMP:20260423T080230
CREATED:20260211T181306Z
LAST-MODIFIED:20260211T181422Z
UID:9264-1772010000-1772029800@phoenixbiosciencecore.com
SUMMARY:5th Annual Cancer Prevention and Control Workshop
DESCRIPTION:Join the ASU College of Health Solutions Cancer Prevention and Control Translational Team for a one-day\, in-person workshop featuring new research and community support efforts by Arizona leaders who share an interest in preventing and controlling cancer. The goal of this workshop is to enhance community connections\, research collaborations and student engagement that advance cancer prevention and control. The workshop is free of charge for all attendees. \nBreakfast and lunch will be provided at no charge. \n\nWednesday\, February 25th \n9:00 am – 2:30 pm \nIn Person \n850 PBC
URL:https://phoenixbiosciencecore.com/event/5th-annual-cancer-prevention-and-control-workshop/
LOCATION:850 PBC\, 850 N. 5th Street\, Phoenix\, AZ\, 85003\, United States
CATEGORIES:Community,Health and Wellness,Networking,Program,Research
END:VEVENT
BEGIN:VEVENT
DTSTART;TZID=America/Phoenix:20260225T103000
DTEND;TZID=America/Phoenix:20260225T133000
DTSTAMP:20260423T080230
CREATED:20260218T155141Z
LAST-MODIFIED:20260218T155141Z
UID:9306-1772015400-1772026200@phoenixbiosciencecore.com
SUMMARY:UA Campus Safety Fair
DESCRIPTION:The U of A Office of Public Safety invites you to the Campus Safety Fair to learn more about the resources they offer. \nAt the fair\, attendees can also meet with members of the Office of Public Safety\, U of A Police Department\, as well as the Threat Assessment and Management Team and more. \nHands-on trainings will be offered\, along with snacks\, prizes\, raffles and games. \nStay prepared\, informed and connected! \n  \nWednesday\, February 25th \n10:30 am – 1:30 pm \nIn Person \nLobby of the Health Sciences Education Building
URL:https://phoenixbiosciencecore.com/event/ua-campus-safety-fair/
LOCATION:Health Science Education Building\, 435 N. 5th St\, Phoenix\, AZ\, 85004
CATEGORIES:Academic,Community,Fair
END:VEVENT
BEGIN:VEVENT
DTSTART;TZID=America/Phoenix:20260225T173000
DTEND;TZID=America/Phoenix:20260225T193000
DTSTAMP:20260423T080230
CREATED:20260218T163121Z
LAST-MODIFIED:20260218T163121Z
UID:9309-1772040600-1772047800@phoenixbiosciencecore.com
SUMMARY:Black Excellence in Medicine - SNMA
DESCRIPTION:The University of Arizona College of Medicine – Phoenix’s Student National Medical Association is hosting a Black Excellence in Medicine event on campus. \n  \n  \nWednesday\, February 25th \n5:30 pm – 7:30 pm \nIn Person \nHeath Science Education Building
URL:https://phoenixbiosciencecore.com/event/black-excellence-in-medicine-snma/
LOCATION:Health Sciences Education Building (HSEB)\, 435 N. 5th St\, Phoenix\, AZ\, 85004
CATEGORIES:Community,Conference,Health and Wellness,Panel,Research
END:VEVENT
END:VCALENDAR