BEGIN:VCALENDAR
VERSION:2.0
PRODID:-//Phoenix Bioscience Core - ECPv6.15.20//NONSGML v1.0//EN
CALSCALE:GREGORIAN
METHOD:PUBLISH
X-ORIGINAL-URL:https://phoenixbiosciencecore.com
X-WR-CALDESC:Events for Phoenix Bioscience Core
REFRESH-INTERVAL;VALUE=DURATION:PT1H
X-Robots-Tag:noindex
X-PUBLISHED-TTL:PT1H
BEGIN:VTIMEZONE
TZID:America/Phoenix
BEGIN:STANDARD
TZOFFSETFROM:-0700
TZOFFSETTO:-0700
TZNAME:MST
DTSTART:20250101T000000
END:STANDARD
END:VTIMEZONE
BEGIN:VEVENT
DTSTART;TZID=America/Phoenix:20260403T000000
DTEND;TZID=America/Phoenix:20260405T235959
DTSTAMP:20260423T062851
CREATED:20260113T203404Z
LAST-MODIFIED:20260304T213044Z
UID:9069-1775174400-1775433599@phoenixbiosciencecore.com
SUMMARY:2026 Women's College Basketball Championship
DESCRIPTION:  \nIt’s official—2026 is the year of the Phoenix Final Four! Mark your calendars for an electric weekend in the heart of the city as the highly anticipated NCAA Women’s Final Four tips off in Downtown Phoenix on April 3 & 5 \n  \nFriday\, April 3rd – Sunday\, April 5th \nMortgage Matchup Center
URL:https://phoenixbiosciencecore.com/event/2026-womens-final-four/
LOCATION:Mortgage Matchup Center\, 201 E Jefferson St\, Phoenix\, AZ\, 85004
CATEGORIES:Celebration,Community
END:VEVENT
END:VCALENDAR