BEGIN:VCALENDAR
VERSION:2.0
PRODID:-//Phoenix Bioscience Core - ECPv6.15.20//NONSGML v1.0//EN
CALSCALE:GREGORIAN
METHOD:PUBLISH
X-WR-CALNAME:Phoenix Bioscience Core
X-ORIGINAL-URL:https://phoenixbiosciencecore.com
X-WR-CALDESC:Events for Phoenix Bioscience Core
REFRESH-INTERVAL;VALUE=DURATION:PT1H
X-Robots-Tag:noindex
X-PUBLISHED-TTL:PT1H
BEGIN:VTIMEZONE
TZID:America/Phoenix
BEGIN:STANDARD
TZOFFSETFROM:-0700
TZOFFSETTO:-0700
TZNAME:MST
DTSTART:20250101T000000
END:STANDARD
END:VTIMEZONE
BEGIN:VEVENT
DTSTART;TZID=America/Phoenix:20260406T000000
DTEND;TZID=America/Phoenix:20260412T235959
DTSTAMP:20260423T061559
CREATED:20260225T223512Z
LAST-MODIFIED:20260225T223512Z
UID:9342-1775433600-1776038399@phoenixbiosciencecore.com
SUMMARY:AZ Tech Week
DESCRIPTION:Arizona tech week brings together the best and brightest from around the world to share future-forward perspectives on tech\, entrepreneurship\, breakthroughs and more. Below are just a few events that will be hosted during Arizona Tech Week.
URL:https://phoenixbiosciencecore.com/event/az-tech-week/
LOCATION:AZ
CATEGORIES:Business Focused,Community,Networking,Professional Development
END:VEVENT
BEGIN:VEVENT
DTSTART;TZID=America/Phoenix:20260408T120000
DTEND;TZID=America/Phoenix:20260408T130000
DTSTAMP:20260423T061559
CREATED:20260318T185810Z
LAST-MODIFIED:20260318T185810Z
UID:9469-1775649600-1775653200@phoenixbiosciencecore.com
SUMMARY:Arizona's Bioscience Roadmap Progress Report
DESCRIPTION:Highlights from the last year in Arizona’s bioscience sector—and a look forward at how leaders can position their organizations for success. \n\n\n\n\nA new iteration of Arizona’s Bioscience Roadmap—the state’s long-term plan for its bioscience sector—launched in September 2025 amid uncertainty about policy shifts and technological change. \nWhere do things stand now? \nThis webinar will examine the state of bioscience from two perspectives: \n\nResearch: A fireside chat about new national realities\, priorities\, and opportunities with Sethuraman Panchanathan\, Ph.D.\, who served as the 15th director of the National Science Foundation and has now returned to Arizona State University. Tammy McLeod\, Ph.D.\, Flinn Foundation president and CEO\, will be in conversation with Dr. Panchanathan.\nIndustry: A discussion moderated by Greater Phoenix Economic Council President and CEO Christine Mackay about what recent Arizona developments mean for the sector’s trajectory in our state.\n\n\n\n  \nWednesday\, April 8th \n12:00 pm – 1:00 pm \nVirtual
URL:https://phoenixbiosciencecore.com/event/arizonas-bioscience-roadmap-progress-report/
LOCATION:Virtual
CATEGORIES:Program,Research,Webinar
END:VEVENT
BEGIN:VEVENT
DTSTART;TZID=America/Phoenix:20260408T140000
DTEND;TZID=America/Phoenix:20260408T180000
DTSTAMP:20260423T061559
CREATED:20260225T224602Z
LAST-MODIFIED:20260225T224602Z
UID:9344-1775656800-1775671200@phoenixbiosciencecore.com
SUMMARY:Morgan Stanley Inclusive & Sustainable Ventures Phoenix Pitch Competition
DESCRIPTION:We invite you to join us at the Morgan Stanley Inclusive & Sustainable Ventures Phoenix Pitch Competition. This event will be held in-person on April 8\, 2026.\n‌\nMorgan Stanley Inclusive & Sustainable Ventures is an in-house accelerator designed to catalyze innovation and impact by supporting early-stage founders who are building solutions for a more inclusive and sustainable future. The program provides capital\, sector-specific expertise and curated resources across key impact themes: Environment; Health & Wellbeing; Economic Empowerment; and Education & Human Capital. Participants gain access to a global network of investors\, along with the tools and connections to scale their ventures.\n‌\nWe look forward to having you join us to hear the startups’ formal pitches and engage in Q&A and informal networking. \n  \nWednesday\, April 8th \n2:00 pm – 6:00 pm \nIn Person \nBayless Ventures\n‌
URL:https://phoenixbiosciencecore.com/event/morgan-stanley-inclusive-sustainable-ventures-phoenix-pitch-competition/
LOCATION:Bayless Ventures\, 3620 N 3rd Street\, Phoenix\, AZ\, 85012
CATEGORIES:Networking,Professional Development,Research,Showcase
END:VEVENT
BEGIN:VEVENT
DTSTART;TZID=America/Phoenix:20260408T150000
DTEND;TZID=America/Phoenix:20260408T160000
DTSTAMP:20260423T061559
CREATED:20260331T192003Z
LAST-MODIFIED:20260331T200841Z
UID:9531-1775660400-1775664000@phoenixbiosciencecore.com
SUMMARY:NAU Phoenix Bioscience Core (PBC) Campus Tour
DESCRIPTION:If an advanced degree in healthcare professions is your goal\, you are invited to join us for a campus tour and Q+A at NAU Phoenix Bioscience Core Campus.  Immediately following your tour\, you will have the opportunity to meet with the program coordinator from Athletic Training\, Occupational Therapy\, Physician Assistant Studies\, or Physical Therapy for program-specific information. \n  \n  \nWednesday\, April 8th \n3:00 pm – 4:00 pm \nIn Person \nNAU PBC
URL:https://phoenixbiosciencecore.com/event/nau-phoenix-bioscience-core-pbc-campus-tour/
LOCATION:NAU Downtown Phoenix Campus\, 435 N 5th St\, Phoenix\, AZ\, 85004
CATEGORIES:Academic,Information Session,Learning Oppotunity
END:VEVENT
END:VCALENDAR