BEGIN:VCALENDAR
VERSION:2.0
PRODID:-//Phoenix Bioscience Core - ECPv6.15.20//NONSGML v1.0//EN
CALSCALE:GREGORIAN
METHOD:PUBLISH
X-ORIGINAL-URL:https://phoenixbiosciencecore.com
X-WR-CALDESC:Events for Phoenix Bioscience Core
REFRESH-INTERVAL;VALUE=DURATION:PT1H
X-Robots-Tag:noindex
X-PUBLISHED-TTL:PT1H
BEGIN:VTIMEZONE
TZID:America/Phoenix
BEGIN:STANDARD
TZOFFSETFROM:-0700
TZOFFSETTO:-0700
TZNAME:MST
DTSTART:20250101T000000
END:STANDARD
END:VTIMEZONE
BEGIN:VEVENT
DTSTART;TZID=America/Phoenix:20260406T000000
DTEND;TZID=America/Phoenix:20260412T235959
DTSTAMP:20260423T062004
CREATED:20260225T223512Z
LAST-MODIFIED:20260225T223512Z
UID:9342-1775433600-1776038399@phoenixbiosciencecore.com
SUMMARY:AZ Tech Week
DESCRIPTION:Arizona tech week brings together the best and brightest from around the world to share future-forward perspectives on tech\, entrepreneurship\, breakthroughs and more. Below are just a few events that will be hosted during Arizona Tech Week.
URL:https://phoenixbiosciencecore.com/event/az-tech-week/
LOCATION:AZ
CATEGORIES:Business Focused,Community,Networking,Professional Development
END:VEVENT
END:VCALENDAR