BEGIN:VCALENDAR
VERSION:2.0
PRODID:-//Phoenix Bioscience Core - ECPv6.15.20//NONSGML v1.0//EN
CALSCALE:GREGORIAN
METHOD:PUBLISH
X-ORIGINAL-URL:https://phoenixbiosciencecore.com
X-WR-CALDESC:Events for Phoenix Bioscience Core
REFRESH-INTERVAL;VALUE=DURATION:PT1H
X-Robots-Tag:noindex
X-PUBLISHED-TTL:PT1H
BEGIN:VTIMEZONE
TZID:America/Phoenix
BEGIN:STANDARD
TZOFFSETFROM:-0700
TZOFFSETTO:-0700
TZNAME:MST
DTSTART:20250101T000000
END:STANDARD
END:VTIMEZONE
BEGIN:VEVENT
DTSTART;TZID=America/Phoenix:20260413T093000
DTEND;TZID=America/Phoenix:20260415T183000
DTSTAMP:20260423T062010
CREATED:20250916T164311Z
LAST-MODIFIED:20250916T164311Z
UID:8215-1776072600-1776277800@phoenixbiosciencecore.com
SUMMARY:STEMCELL-2026
DESCRIPTION:We are pleased to announce that the 2nd International Conference on Stem Cells\, Regenerative Medicine & Tissue Engineering will be held on April 13-15\, 2026\, in Paris\, France. This would be one of the leading conferences in the fields of Stem Cells and Regenerative Medicine. \nThe conference aims to gather scholars from around the world to present the latest research outcomes and advances in relevant fields\, providing an ideal environment for forming new scientific collaborations. The conference will be organized based on the theme of stem cell innovations in regenerative medicine. \nJoin renowned leaders\, researchers\, and innovators to explore the latest advancements and future directions in stem cell science. This event brings together top experts\, distinguished delegates\, and passionate students for impactful discussions and invaluable networking opportunities. Be part of the conversations shaping the future of regenerative medicine. \n  \nMonday\, April 13th – Wednesday\, April 15th \nIn Person \nParis\, France \n 
URL:https://phoenixbiosciencecore.com/event/stemcell-2026/
LOCATION:Paris\, France
CATEGORIES:Conference,Networking,Professional Development
END:VEVENT
END:VCALENDAR