BEGIN:VCALENDAR
VERSION:2.0
PRODID:-//Phoenix Bioscience Core - ECPv6.15.20//NONSGML v1.0//EN
CALSCALE:GREGORIAN
METHOD:PUBLISH
X-WR-CALNAME:Phoenix Bioscience Core
X-ORIGINAL-URL:https://phoenixbiosciencecore.com
X-WR-CALDESC:Events for Phoenix Bioscience Core
REFRESH-INTERVAL;VALUE=DURATION:PT1H
X-Robots-Tag:noindex
X-PUBLISHED-TTL:PT1H
BEGIN:VTIMEZONE
TZID:America/Phoenix
BEGIN:STANDARD
TZOFFSETFROM:-0700
TZOFFSETTO:-0700
TZNAME:MST
DTSTART:20250101T000000
END:STANDARD
END:VTIMEZONE
BEGIN:VEVENT
DTSTART;TZID=America/Phoenix:20260415T000000
DTEND;TZID=America/Phoenix:20260418T235959
DTSTAMP:20260423T061516
CREATED:20260317T212904Z
LAST-MODIFIED:20260317T212904Z
UID:9464-1776211200-1776556799@phoenixbiosciencecore.com
SUMMARY:NSTA National Conference
DESCRIPTION:The NSTA Spring Conference in Anaheim (April 15–18) brings together science educators from across the country to share ideas\, explore new instructional strategies\, and learn from one another. \nThe conference includes hundreds of sessions focused on topics such as student engagement\, implementing high-quality instructional materials like OpenSciEd\, and using emerging tools like AI to support science learning. Attendees will also hear from keynote speaker Mark Rober\, founder of CrunchLabs and former NASA engineer. \nFor many educators\, NSTA conferences are a chance to connect with peers who understand the work and return to their classrooms with new ideas and inspiration. \n  \nWednesday\, April 15th – Saturday\, April 18th \nIn Person \nAnaheim Convention Center
URL:https://phoenixbiosciencecore.com/event/nsta-national-conference/
LOCATION:Anaheim Convention Center\, 200 S. Anaheim Blvd.\, Anaheim\, CA\, 92805
CATEGORIES:Business Focused,Conference,Health and Wellness,Information Session,Professional Development,Research
END:VEVENT
BEGIN:VEVENT
DTSTART;TZID=America/Phoenix:20260417T090000
DTEND;TZID=America/Phoenix:20260417T100000
DTSTAMP:20260423T061516
CREATED:20260319T220753Z
LAST-MODIFIED:20260319T220753Z
UID:9488-1776416400-1776420000@phoenixbiosciencecore.com
SUMMARY:ASU Health Grand Rounds: Engineering Approaches to Sickle Cell Disease: Implications for Inclusive Excellence in Health
DESCRIPTION:Be part of ASU Health’s signature speaker series: Grand Rounds\, a platform for dynamic discussions on the innovations\, breakthroughs and challenges shaping the future of health. Grand Rounds brings together leading experts to explore bold ideas\, from cutting-edge research to the use of technology in improving health care at scale. \nGrand Rounds fosters collaboration\, critical thinking and the exchange of ideas among those passionate about the health and health care fields. We invite you to engage in dynamic discussions\, share perspectives and gain insights into the most pressing issues facing the health and medical landscape. All are welcome to attend and contribute. \nSickle cell disease is a debilitating genetic disorder affecting 100\,000 Americans and millions globally that induces chronic inflammation and vascular dysfunction and causes multiple organ damage. The application of engineering approaches to better understand\, treat\, manage and cure sickle cell disease has contributed to important breakthroughs and improved health outcomes for individuals living with the disease. Situated at the intersection of race\, politics\, history and health\, sickle cell disease offers a natural platform to examine inclusive excellence in health. \nThis Grand Rounds presentation\, delivered by Dr. Gilda Barabino\, professor of biomedical and chemical engineering and former president of Olin College of Engineering\, provides a window into engineering approaches to sickle cell disease and its implications from the perspective of an engineer with decades-long engagement in sickle cell research\, education and advocacy. \nAfter the keynote\, attendees are invited to join the ASU Health Impact Summit\, featuring interactive breakout sessions and opportunities for networking and discussion across ASU Health. Participants may attend the keynote only or stay for the full summit experience\, including lunch and informal networking. \n\n  \nFriday\, April 17th \n9:00 am – 10:00 am \nIn Person \nASU Mercado Building C
URL:https://phoenixbiosciencecore.com/event/asu-health-grand-rounds-engineering-approaches-to-sickle-cell-disease-implications-for-inclusive-excellence-in-health/
LOCATION:ASU Downtown Mercado\, 502 E. Monroe St\, Phoenix\, AZ\, 85004
CATEGORIES:Health Grand Round,Information Session,Research
END:VEVENT
BEGIN:VEVENT
DTSTART;TZID=America/Phoenix:20260417T120000
DTEND;TZID=America/Phoenix:20260417T140000
DTSTAMP:20260423T061516
CREATED:20260408T215821Z
LAST-MODIFIED:20260408T215821Z
UID:9580-1776427200-1776434400@phoenixbiosciencecore.com
SUMMARY:Enhancing Training Through Professional Development and Industry Engagement
DESCRIPTION:Come hang out\, eat lunch\, and discover cool ways to boost your training game with biomedical industry pros. \n\n\n\n\nThe University of Arizona Postdoctoral Association\, with support from the Arizona Biomedical Research Centre\, is hosting a hybrid workshop with industry representatives on career pathways\, translational research opportunities\, and skills needed to transition from academic training into biotechnology\, pharmaceutical\, and related biomedical sectors. \n\n\n  \nFriday\, April 17th \n12:00 pm – 2:00 pm \nIn Person \nBiomedical Sciences Partnership Building
URL:https://phoenixbiosciencecore.com/event/enhancing-training-through-professional-development-and-industry-engagement/
LOCATION:Biomedical Sciences Partnership Building\, 475 North 5th St\, Phoenix\, AZ\, 85004
CATEGORIES:Information Session,Learning Oppotunity,Program,Research
END:VEVENT
BEGIN:VEVENT
DTSTART;TZID=America/Phoenix:20260417T150000
DTEND;TZID=America/Phoenix:20260417T160000
DTSTAMP:20260423T061516
CREATED:20260310T163626Z
LAST-MODIFIED:20260310T163626Z
UID:9429-1776438000-1776441600@phoenixbiosciencecore.com
SUMMARY:NAU OT Workplace Wellness Workshops
DESCRIPTION:Experience Wellness Workshops with NAU OT Doctoral Students at 850 PBC! \n  \nFriday\, April 17th \n3:00 pm – 3:45 pm \nIn Person \n850 PBC
URL:https://phoenixbiosciencecore.com/event/nau-ot-workplace-wellness-workshops-3/
LOCATION:850 PBC\, 850 N. 5th Street\, Phoenix\, AZ\, 85003\, United States
CATEGORIES:Academic,Learning Oppotunity,Program
END:VEVENT
END:VCALENDAR