BEGIN:VCALENDAR
VERSION:2.0
PRODID:-//Phoenix Bioscience Core - ECPv6.15.20//NONSGML v1.0//EN
CALSCALE:GREGORIAN
METHOD:PUBLISH
X-WR-CALNAME:Phoenix Bioscience Core
X-ORIGINAL-URL:https://phoenixbiosciencecore.com
X-WR-CALDESC:Events for Phoenix Bioscience Core
REFRESH-INTERVAL;VALUE=DURATION:PT1H
X-Robots-Tag:noindex
X-PUBLISHED-TTL:PT1H
BEGIN:VTIMEZONE
TZID:America/Phoenix
BEGIN:STANDARD
TZOFFSETFROM:-0700
TZOFFSETTO:-0700
TZNAME:MST
DTSTART:20250101T000000
END:STANDARD
END:VTIMEZONE
BEGIN:VEVENT
DTSTART;TZID=America/Phoenix:20260429T120000
DTEND;TZID=America/Phoenix:20260505T140000
DTSTAMP:20260423T074957
CREATED:20260205T201811Z
LAST-MODIFIED:20260205T201811Z
UID:9236-1777464000-1777989600@phoenixbiosciencecore.com
SUMMARY:U of A College of Medicine – Phoenix Research Week
DESCRIPTION:The University of Arizona College of Medicine – Phoenix invites you to join us for the 2026 Research Week! This week features a dynamic lineup of events celebrating innovation\, collaboration\, and discovery across our research community. Please visit our Research Week webpage for more details. \nFor questions about Research Week\, please email the Translational Research Office. \n  \nWednesday\, April 29\, 12:00 PM to Tuesday\, May 5\, 2:00 PM \nIn Person \nMultiple U of A College of Medicine – Phoenix Locations \n 
URL:https://phoenixbiosciencecore.com/event/u-of-a-college-of-medicine-phoenix-research-week/
LOCATION:University of Arizona College of Medicine – Phoenix
CATEGORIES:Business Focused,Community,Health and Wellness,Professional Development,Program,Research
END:VEVENT
BEGIN:VEVENT
DTSTART;TZID=America/Phoenix:20260505T083000
DTEND;TZID=America/Phoenix:20260505T160000
DTSTAMP:20260423T074957
CREATED:20260407T174750Z
LAST-MODIFIED:20260407T174750Z
UID:9566-1777969800-1777996800@phoenixbiosciencecore.com
SUMMARY:2nd Annual Arizona Digital Health Symposium: From Roadmap to Reality
DESCRIPTION:Join the Arizona digital health community for the 2nd annual Arizona Digital Health Symposium on Tuesday\, May 5\, 2026. Digital health includes mobile health (mHealth)\, internet health (iHealth)\, health information technology\, wearable devices\, telehealth and telemedicine\, artificial intelligence and machine learning\, and personalized medicine. At the symposium\, you will learn about the pathway report from the inaugural symposium and how you can help advance digital health in Arizona. \nThe 2nd annual Arizona Digital Symposium will be organized around three key themes of chronic disease prevention\, enhancing patient encounters\, and health data integration. These themes were identified during the inaugural Arizona Digital Health Symposium. You will hear directly from experts in digital health\, have the opportunity to present your work through “blitz talks\,” view poster presentations and a technology showcase\, and engage in open conversations through networking\, roundtables and panel discussions. \nEngage with cross-sector partners from industry\, clinical and community health settings\, academic innovators\, and patient advocates to learn and share on crucial topics within digital health\, and help Arizona translate digital health innovations into real-world impact. \n  \nTuesday\, May 5th \n8:30 am – 4:00 pm \nIn Person \nASU Health Futures Center
URL:https://phoenixbiosciencecore.com/event/2nd-annual-arizona-digital-health-symposium-from-roadmap-to-reality/
LOCATION:ASU Health Futures Center\, 6161 E. Mayo Blvd\, Phoenix\, AZ\, 85054
CATEGORIES:Information Session,Learning Oppotunity,Networking,Research,Symposium
END:VEVENT
END:VCALENDAR