BEGIN:VCALENDAR
VERSION:2.0
PRODID:-//Phoenix Bioscience Core - ECPv6.15.20//NONSGML v1.0//EN
CALSCALE:GREGORIAN
METHOD:PUBLISH
X-WR-CALNAME:Phoenix Bioscience Core
X-ORIGINAL-URL:https://phoenixbiosciencecore.com
X-WR-CALDESC:Events for Phoenix Bioscience Core
REFRESH-INTERVAL;VALUE=DURATION:PT1H
X-Robots-Tag:noindex
X-PUBLISHED-TTL:PT1H
BEGIN:VTIMEZONE
TZID:America/Phoenix
BEGIN:STANDARD
TZOFFSETFROM:-0700
TZOFFSETTO:-0700
TZNAME:MST
DTSTART:20250101T000000
END:STANDARD
END:VTIMEZONE
BEGIN:VEVENT
DTSTART;TZID=America/Phoenix:20260923T000000
DTEND;TZID=America/Phoenix:20260924T235959
DTSTAMP:20260423T135631
CREATED:20260127T160312Z
LAST-MODIFIED:20260127T160312Z
UID:9132-1790121600-1790294399@phoenixbiosciencecore.com
SUMMARY:International Conference on Advances in Gravitation\, Astrophysics and Cosmology (ICAGAC2026)
DESCRIPTION:We are pleased to announce that the International Conference on Advances in Gravitation\, Astrophysics and Cosmology (ICAGAC2026) will be held on September 23-24\, 2026 in Berlin\, Germany. \nThe International Conference on Advances in Gravitation\, Astrophysics and Cosmology (ICAGAC2026) is a premier forum that brings together leading researchers\, scientists\, scholars and practitioners from around the globe. \nIt is dedicated to exploring the frontiers of gravitational physics\, astrophysics\, cosmology and related disciplines. Through an enriching mix of keynote lectures\, invited talks\, contributed oral presentations\, poster sessions and exhibitions\, The International Conference on Advances in Gravitation\, Astrophysics and Cosmology fosters rigorous scientific exchange\, collaborative networking\, and the cross-fertilization of ideas across theory\, experiment and observation. \nThis event offers a unique platform for insightful discussions\, new partnerships\, and the exchange of groundbreaking ideas. \nWe invite you to Berlin\, Germany to engage in a dynamic scientific event and contribute to the progress of astrophysical research.
URL:https://phoenixbiosciencecore.com/event/international-conference-on-advances-in-gravitation-astrophysics-and-cosmology-icagac2026/
LOCATION:Berlin\, Germany
CATEGORIES:Conference,Research
END:VEVENT
END:VCALENDAR