BEGIN:VCALENDAR
VERSION:2.0
PRODID:-//Phoenix Bioscience Core - ECPv6.15.20//NONSGML v1.0//EN
CALSCALE:GREGORIAN
METHOD:PUBLISH
X-ORIGINAL-URL:https://phoenixbiosciencecore.com
X-WR-CALDESC:Events for Phoenix Bioscience Core
REFRESH-INTERVAL;VALUE=DURATION:PT1H
X-Robots-Tag:noindex
X-PUBLISHED-TTL:PT1H
BEGIN:VTIMEZONE
TZID:America/Phoenix
BEGIN:STANDARD
TZOFFSETFROM:-0700
TZOFFSETTO:-0700
TZNAME:MST
DTSTART:20250101T000000
END:STANDARD
END:VTIMEZONE
BEGIN:VEVENT
DTSTART;TZID=America/Phoenix:20260524T000000
DTEND;TZID=America/Phoenix:20260527T235959
DTSTAMP:20260423T110650
CREATED:20260422T193114Z
LAST-MODIFIED:20260422T193114Z
UID:9630-1779580800-1779926399@phoenixbiosciencecore.com
SUMMARY:World Parkinson Conference – WPC 2026 Phoenix
DESCRIPTION:The 7th World Parkinson Congress\, also known as the WPC 2026\, is returning to North America after ten years and will take place in Phoenix\, Arizona. \nWe invite members of the Parkinson’s community to save the date and to plan to join us at one of the most uplifting fully inclusive international Parkinson’s conferences. \nThe WPC 2026 will open its doors to neuroscientists\, clinical researchers\, clinicians (MD\, RN\, NP\, PA\, SW)\, rehabilitation specialists (PT\, OT\, SLP\, MT)\, nutritionists\, people with Parkinson’s\, care partners and others. \nIf you are touched by Parkinson’s personally\, treating people with Parkinson’s\, or working to cure it\, the WPC is the place to be. \n  \nSunday\, May 24th – Wednesday\, May 27th \nIn Person \nPhoenix Convention Center \n 
URL:https://phoenixbiosciencecore.com/event/world-parkinson-conference-wpc-2026-phoenix/
LOCATION:Phoenix Convention Center\, 100 N 3rd Street\, Phoenix\, AZ\, 85004\, United States
CATEGORIES:Conference,Information Session,Learning Oppotunity,Research
END:VEVENT
BEGIN:VEVENT
DTSTART;TZID=America/Phoenix:20260615T000000
DTEND;TZID=America/Phoenix:20260617T235959
DTSTAMP:20260423T110650
CREATED:20260303T202328Z
LAST-MODIFIED:20260303T202328Z
UID:9371-1781481600-1781740799@phoenixbiosciencecore.com
SUMMARY:The 2nd International conference on Applied Science\, Engineering and Technology (ICAET2026)
DESCRIPTION:ICAET2026 represents vital gatherings that unite experts and enthusiasts from diverse disciplines worldwide. These events serve as dynamic forums where cutting-edge research\, technological advancements\, and practical applications converge to address global challenges and foster innovation. Applied sciences such as Physics\, Chemistry\, Biology\, Environmental Science\, and Materials Science contribute to innovative solutions addressing global challenges. Concurrently\, Engineering disciplines encompass Civil\, Mechanical\, Electrical\, Chemical\, and Biomedical Engineering\, among others\, focusing on designing and implementing real-world solutions. Technology fields\, including Computer Science\, Information Technology\, Robotics\, Artificial Intelligence\, and Data Science\, Drive Digital Innovation and System Advancements\, shaping the future of technological applications and interdisciplinary collaborations in these dynamic conferences. \n  \nMonday\, June 15 – Wednesday\, June 17\, 2026 \nIn Person \nFlorence\, Italy \n 
URL:https://phoenixbiosciencecore.com/event/the-2nd-international-conference-on-applied-science-engineering-and-technology-icaet2026/
LOCATION:Folrence\, Italy
CATEGORIES:Conference,Information Session,Networking,Professional Development,Showcase
END:VEVENT
BEGIN:VEVENT
DTSTART;TZID=America/Phoenix:20260717T080000
DTEND;TZID=America/Phoenix:20260717T170000
DTSTAMP:20260423T110650
CREATED:20251215T181713Z
LAST-MODIFIED:20251215T181713Z
UID:8948-1784275200-1784307600@phoenixbiosciencecore.com
SUMMARY:Class of 2030 White Coat Ceremony
DESCRIPTION:  \n  \nThis event symbolizes the beginning of a lifelong journey in medicine\, as new students don their first white coats\, marking their commitment to compassionate care and excellence in their chosen profession. \n  \nFriday\, July 17th \nNorth Ballroom – Phoenix Convention Center \nIn Person
URL:https://phoenixbiosciencecore.com/event/class-of-2030-white-coat-ceremony/
LOCATION:North Ballroom of the Phoenix Convention Center\, 100 N 3rd St\, Phoenix\, AZ\, 85004\, United States
CATEGORIES:Academic,Celebration,Program,Showcase
END:VEVENT
BEGIN:VEVENT
DTSTART;TZID=America/Phoenix:20260914T000000
DTEND;TZID=America/Phoenix:20260915T235959
DTSTAMP:20260423T110650
CREATED:20260407T182933Z
LAST-MODIFIED:20260407T182933Z
UID:9571-1789344000-1789516799@phoenixbiosciencecore.com
SUMMARY:Civil Engineering Conference
DESCRIPTION:September 14 – 15\, 2026 \nBerlin\, Germany \n 
URL:https://phoenixbiosciencecore.com/event/civil-engineering-conference/
LOCATION:Berlin\, Germany
CATEGORIES:Conference,Information Session,Learning Oppotunity,Research
END:VEVENT
BEGIN:VEVENT
DTSTART;TZID=America/Phoenix:20260923T000000
DTEND;TZID=America/Phoenix:20260924T235959
DTSTAMP:20260423T110650
CREATED:20260127T160312Z
LAST-MODIFIED:20260127T160312Z
UID:9132-1790121600-1790294399@phoenixbiosciencecore.com
SUMMARY:International Conference on Advances in Gravitation\, Astrophysics and Cosmology (ICAGAC2026)
DESCRIPTION:We are pleased to announce that the International Conference on Advances in Gravitation\, Astrophysics and Cosmology (ICAGAC2026) will be held on September 23-24\, 2026 in Berlin\, Germany. \nThe International Conference on Advances in Gravitation\, Astrophysics and Cosmology (ICAGAC2026) is a premier forum that brings together leading researchers\, scientists\, scholars and practitioners from around the globe. \nIt is dedicated to exploring the frontiers of gravitational physics\, astrophysics\, cosmology and related disciplines. Through an enriching mix of keynote lectures\, invited talks\, contributed oral presentations\, poster sessions and exhibitions\, The International Conference on Advances in Gravitation\, Astrophysics and Cosmology fosters rigorous scientific exchange\, collaborative networking\, and the cross-fertilization of ideas across theory\, experiment and observation. \nThis event offers a unique platform for insightful discussions\, new partnerships\, and the exchange of groundbreaking ideas. \nWe invite you to Berlin\, Germany to engage in a dynamic scientific event and contribute to the progress of astrophysical research.
URL:https://phoenixbiosciencecore.com/event/international-conference-on-advances-in-gravitation-astrophysics-and-cosmology-icagac2026/
LOCATION:Berlin\, Germany
CATEGORIES:Conference,Research
END:VEVENT
BEGIN:VEVENT
DTSTART;TZID=America/Phoenix:20261014T000000
DTEND;TZID=America/Phoenix:20261014T235959
DTSTAMP:20260423T110650
CREATED:20260303T203504Z
LAST-MODIFIED:20260303T203504Z
UID:9378-1791936000-1792022399@phoenixbiosciencecore.com
SUMMARY:2026 ASU Diagnostics Summit
DESCRIPTION:We will convene our yearly summit in a new location this year – historic Old Main on ASU’s Tempe campus.  This location will be much closer to the airport\, restaurants\, and with many hotel options.  We will still offer a Zoom option\, but this year\, we will offer more networking opportunities for the in-person attendees.  No registration link yet\, but be sure to hold this date on your calendar! \n  \nWednesday\, October 14th \nIn Person or Virtual \nASU Old Main
URL:https://phoenixbiosciencecore.com/event/2026-asu-diagnostics-summit/
LOCATION:ASU Old Main\, 400 E Tyler Mall\, Tempe\, 85281
CATEGORIES:Networking,Research,Summit
END:VEVENT
END:VCALENDAR