BEGIN:VCALENDAR
VERSION:2.0
PRODID:-//Phoenix Bioscience Core - ECPv6.15.20//NONSGML v1.0//EN
CALSCALE:GREGORIAN
METHOD:PUBLISH
X-WR-CALNAME:Phoenix Bioscience Core
X-ORIGINAL-URL:https://phoenixbiosciencecore.com
X-WR-CALDESC:Events for Phoenix Bioscience Core
REFRESH-INTERVAL;VALUE=DURATION:PT1H
X-Robots-Tag:noindex
X-PUBLISHED-TTL:PT1H
BEGIN:VTIMEZONE
TZID:America/Phoenix
BEGIN:STANDARD
TZOFFSETFROM:-0700
TZOFFSETTO:-0700
TZNAME:MST
DTSTART:20240101T000000
END:STANDARD
END:VTIMEZONE
BEGIN:VEVENT
DTSTART;TZID=America/Phoenix:20251101T070000
DTEND;TZID=America/Phoenix:20251101T110000
DTSTAMP:20260423T125334
CREATED:20250826T182527Z
LAST-MODIFIED:20250826T182527Z
UID:7970-1761980400-1761994800@phoenixbiosciencecore.com
SUMMARY:Walk for Hope
DESCRIPTION:  \nWalk for Hope is more than a fundraiser—it’s a movement bringing together survivors\, families\, friends\, and supporters determined to end cancer for all. \nEvery step taken at Walk for Hope fuels groundbreaking research and compassionate care at TGen and City of Hope\, bringing us closer to cures for every type of cancer. \nTogether\, we believe that a world without cancer is within reach. Walk for Hope helps accelerate discoveries\, ensuring more patients—regardless of their diagnosis—have access to lifesaving treatments and innovative therapies. Join thousands of participants nationwide in uniting for this urgent cause. \nBecause together\, we move closer to a future where cancer no longer threatens the people we love. \nRegister today. \n  \nSaturday\, November 1st \n7:00 am – 11:00 am \nIn Person \nCity of Hope – Goodyear
URL:https://phoenixbiosciencecore.com/event/walk-for-hope/
LOCATION:City of Hope – Goodyear\, 14200 Celebrate Life Way\, Goodyear\, AZ\, 85338
CATEGORIES:Community
END:VEVENT
BEGIN:VEVENT
DTSTART;TZID=America/Phoenix:20251101T090000
DTEND;TZID=America/Phoenix:20251101T150000
DTSTAMP:20260423T125334
CREATED:20250916T174122Z
LAST-MODIFIED:20250916T174122Z
UID:8224-1761987600-1762009200@phoenixbiosciencecore.com
SUMMARY:Connect 2 Mentors
DESCRIPTION:The Office of Health Care Advancement (OHCA)\, with the goal of inspiring the younger generation\, invites high school students—sophomores and juniors preferred—to attend a one-day program. In this program\, student mentors will share advice on the various educational pathways that lead to a successful career in healthcare. \nHigh school students will have the opportunity to learn about professions such as nursing\, physical therapy\, medicine\, pharmacy\, public health\, and more. Through storytelling and a speed networking activity\, participants will gain insights into the challenges of these fields. Additionally\, they will learn best practices for writing a personal statement for their college applications. \n  \nSaturday\, November 1st \n9:00 am – 3:00 pm \nIn Person \nHealth Science Education Building – Phoenix
URL:https://phoenixbiosciencecore.com/event/connect-2-mentors/
LOCATION:Health Science Education Building\, 435 N. 5th St\, Phoenix\, AZ\, 85004
CATEGORIES:Academic,Program,Research
END:VEVENT
BEGIN:VEVENT
DTSTART;TZID=America/Phoenix:20251104T073000
DTEND;TZID=America/Phoenix:20251104T083000
DTSTAMP:20260423T125334
CREATED:20251029T163805Z
LAST-MODIFIED:20251029T163805Z
UID:8697-1762241400-1762245000@phoenixbiosciencecore.com
SUMMARY:Child Health Grand Rounds
DESCRIPTION:George S. Bissett III\, MD\nClinical Informatics Specialist\, Division of Emergency Medicine \nPresentation Title\n\nTen Pediatric Diagnoses You Can’t Afford to Miss in the Emergency Room\n\nObjectives\n\nDevelop a heightened awareness for radiographic signs that point to a specific diagnosis in acutely ill children\nBecome familiar with the ramifications of making a delayed or incorrect diagnosis\nUnderstand why the incorrect diagnosis is made in most cases.\n\nFor additional information\, please get in touch with Dina Savola. \n  \nTuesday\, November 4th \n7:30 am – 8:30 am \nVirtual
URL:https://phoenixbiosciencecore.com/event/child-health-grand-rounds/
LOCATION:Virtual
CATEGORIES:Information Session,Research
END:VEVENT
BEGIN:VEVENT
DTSTART;TZID=America/Phoenix:20251104T170000
DTEND;TZID=America/Phoenix:20251104T183000
DTSTAMP:20260423T125334
CREATED:20251022T160624Z
LAST-MODIFIED:20251022T160624Z
UID:8688-1762275600-1762281000@phoenixbiosciencecore.com
SUMMARY:CATalyst CHAT: Sleep and Shine - Sleep Health Across the Lifespan
DESCRIPTION:  \nAs our bodies age\, our sleep patterns change regardless of what we want. Hear from Professor of Medicine and Director of the UA Center for Sleep\, Circadian\, and Neuroscience Research\, Dr. Sairam Parthasarathy\, and Associate Professor of Pediatrics and Medicine\, Dr. Daniel Combs\, about the latest research in sleep health. Registration and networking at 5 p.m. with the program starting at 5:30 p.m. \n  \nTuesday\, November 4th \n5:00 pm – 6:30 pm \nIn Person \nUA Scottsdale \n 
URL:https://phoenixbiosciencecore.com/event/catalyst-chat-sleep-and-shine-sleep-health-across-the-lifespan/
LOCATION:Bear Down Conference Center\, Scottsdale Waterfront\, 7135 E Camelback Rd\, Scottsdale\, AZ\, 85251
CATEGORIES:Information Session,Program,Research
END:VEVENT
BEGIN:VEVENT
DTSTART;TZID=America/Phoenix:20251104T173000
DTEND;TZID=America/Phoenix:20251104T184500
DTSTAMP:20260423T125334
CREATED:20251009T231020Z
LAST-MODIFIED:20251009T231020Z
UID:8637-1762277400-1762281900@phoenixbiosciencecore.com
SUMMARY:College of Health Solutions: Graduate Programs Showcase 2025
DESCRIPTION:  \n \n  \nJoin us for the Graduate Programs Showcase\, a two-day virtual event where you can explore graduate programs in health offered by the College of Health Solutions at ASU. Current undergraduates and prospective students interested in pursuing a master’s or doctoral degree will have the opportunity to learn about the graduate programs through personal experiences. Current faculty members and current students will be available to answer questions through panel events and breakout sessions. Choose the degrees you’re most interested in\, opt for one day or both\, and get all of your questions answered! Get ready to take the next step toward your goals for your career in health and health care. \n  \nTuesday\, November 4th \n5:30 pm – 6:45 pm \nVirtual
URL:https://phoenixbiosciencecore.com/event/college-of-health-solutions-graduate-programs-showcase-2025/
LOCATION:Virtual
CATEGORIES:Information Session,Professional Development,Showcase
END:VEVENT
BEGIN:VEVENT
DTSTART;TZID=America/Phoenix:20251105T100000
DTEND;TZID=America/Phoenix:20251105T110000
DTSTAMP:20260423T125334
CREATED:20251021T160055Z
LAST-MODIFIED:20251021T160055Z
UID:8681-1762336800-1762340400@phoenixbiosciencecore.com
SUMMARY:Water Talks - Sex Differences in Heat and Hydration of Active Adults
DESCRIPTION:  \nThe autonomic nervous system plays a crucial role in the physiological regulation of both body temperature and blood pressure. Often\, the control mechanisms for these two processes are linked or overlap\, in either adaptive or maladaptive ways. Nisha Charkoudian will give an overview of these mechanisms\, followed by an update of recent research in these areas from her lab and others. Attendees can also earn one continuing education unit for the American College of Sports Medicine (ACSM)\, the Academy of Nutrition and Dietetics (AND) via the Commission on Dietetic Registration (CDR)\, and the National Athletic Training Association (NATA) via the Board of Certification for the Athletic Trainer (BOC). \n  \nWednesday\, November 5th \n10:00 am – 11:00 am \nIn Person or Virtual \n850 PBC
URL:https://phoenixbiosciencecore.com/event/water-talks-sex-differences-in-heat-and-hydration-of-active-adults/
LOCATION:850 PBC\, 850 N. 5th Street\, Phoenix\, AZ\, 85003\, United States
CATEGORIES:Information Session,Research,Webinar
END:VEVENT
BEGIN:VEVENT
DTSTART;TZID=America/Phoenix:20251105T170000
DTEND;TZID=America/Phoenix:20251105T220000
DTSTAMP:20260423T125334
CREATED:20251029T164520Z
LAST-MODIFIED:20251029T164520Z
UID:8699-1762362000-1762380000@phoenixbiosciencecore.com
SUMMARY:Demo Day & Community Kickoff Party
DESCRIPTION:Join us for an evening of innovation\, collaboration\, and celebration as we mark the conclusion of Fuse Accelerator’s 10-week Dual-Use Accelerator program.\nExperience groundbreaking technologies designed for both commercial and defense applications\, meet visionary founders\, and connect with leaders shaping the future of AI/ML\, cybersecurity\, autonomous systems\, and more. \n  \nWednesday\, November 5th \n5:00 pm – 10:00 pm \nIn Person \nOn Jackson
URL:https://phoenixbiosciencecore.com/event/demo-day-community-kickoff-party/
LOCATION:On Jackson\, 245 East Jackson Street\, Phoenix\, AZ\, 85004
CATEGORIES:Information Session,Research
END:VEVENT
BEGIN:VEVENT
DTSTART;TZID=America/Phoenix:20251105T173000
DTEND;TZID=America/Phoenix:20251105T184500
DTSTAMP:20260423T125334
CREATED:20251009T231640Z
LAST-MODIFIED:20251009T231640Z
UID:8640-1762363800-1762368300@phoenixbiosciencecore.com
SUMMARY:College of Health Solutions: Graduate Programs Showcase 2025
DESCRIPTION:  \nJoin us for the Graduate Programs Showcase\, a two-day virtual event where you can explore graduate programs in health offered by the College of Health Solutions at ASU. Current undergraduates and prospective students interested in pursuing a master’s or doctoral degree will have the opportunity to learn about the graduate programs through personal experiences. Current faculty members and current students will be available to answer questions through panel events and breakout sessions. Choose the degrees you’re most interested in\, opt for one day or both\, and get all of your questions answered! Get ready to take the next step toward your goals for your career in health and health care. \n  \nWednesday\, November 5th \n5:30 pm – 6:45 pm \nVirtual
URL:https://phoenixbiosciencecore.com/event/college-of-health-solutions-graduate-programs-showcase-2025-2/
LOCATION:Virtual
CATEGORIES:Information Session,Professional Development,Showcase
END:VEVENT
BEGIN:VEVENT
DTSTART;TZID=America/Phoenix:20251106T100000
DTEND;TZID=America/Phoenix:20251106T170000
DTSTAMP:20260423T125334
CREATED:20251029T210920Z
LAST-MODIFIED:20251029T210920Z
UID:8711-1762423200-1762448400@phoenixbiosciencecore.com
SUMMARY:Phx Tech Talent Summit + Pitch Competition
DESCRIPTION:  \nJoin Arizona’s most dynamic gathering of founders\, investors\, operators\, and ecosystem builders for two days of talent\, capital\, and community activation. From interactive panels and industry deep-dives to high-energy pitch competitions and career experiences\, this is where innovation meets opportunity. Discover the future of work\, connect with top-tier startups\, and engage with a network shaping Arizona’s tech ecosystem. \n​This is our 4th Summit and we are thrilled to have co-created a program of impact\, inspiration and meaningful connections. Your ticket is inclusive of evening activations\, food\, live music\, etc. \n\n  \nThursday\, November 6th \n10:00 am – 5:00 pm \nIn Person \nDowntown Phoenix
URL:https://phoenixbiosciencecore.com/event/phx-tech-talent-summit-pitch-competition/
LOCATION:Downtown Phoenix\, 602 E Grant St\, Phoenix\, AZ\, 85004
CATEGORIES:Information Session,Networking,Panel
END:VEVENT
BEGIN:VEVENT
DTSTART;TZID=America/Phoenix:20251111T000000
DTEND;TZID=America/Phoenix:20251111T235959
DTSTAMP:20260423T125334
CREATED:20250813T211552Z
LAST-MODIFIED:20250813T211552Z
UID:7871-1762819200-1762905599@phoenixbiosciencecore.com
SUMMARY:Veterans Day
DESCRIPTION:
URL:https://phoenixbiosciencecore.com/event/veterans-day/
LOCATION:AZ
END:VEVENT
BEGIN:VEVENT
DTSTART;TZID=America/Phoenix:20251112T163000
DTEND;TZID=America/Phoenix:20251112T203000
DTSTAMP:20260423T125334
CREATED:20251029T231822Z
LAST-MODIFIED:20251029T231822Z
UID:8720-1762965000-1762979400@phoenixbiosciencecore.com
SUMMARY:2025 Governor’s Celebration of Innovation Awards
DESCRIPTION:Join us at the Governor’s Celebration of Innovation Awards! \nThis year\, we’re pulling out all the stops to make this prestigious event the most memorable yet! Join over 450 of Arizona’s brightest minds for an unforgettable night of networking\, dining\, and honoring Arizona’s best in technology. \nWe’re taking it back to our roots with a true gala dinner experience in a stunning venue that exudes elegance and celebration. This year’s event promises an authentic atmosphere of festivity and innovation. \n  \nWednesday\, November 12th \n4:45 pm – 8:30 pm \nIn Person \nChateau Luxe
URL:https://phoenixbiosciencecore.com/event/2025-governors-celebration-of-innovation-awards/
LOCATION:Chateau Luxe\, 1175 E. Lone Cactus Dr.\, Phoenix\, AZ\, 85024
CATEGORIES:Award Ceremony,Celebration
END:VEVENT
BEGIN:VEVENT
DTSTART;TZID=America/Phoenix:20251112T170000
DTEND;TZID=America/Phoenix:20251112T180000
DTSTAMP:20260423T125334
CREATED:20250709T171755Z
LAST-MODIFIED:20250709T172412Z
UID:7578-1762966800-1762970400@phoenixbiosciencecore.com
SUMMARY:NAU Physical Therapy Information Session
DESCRIPTION:Join us for an information session for an opportunity to ask questions and learn more about the program. \nNAU’s DPT Program is nationally recognized as a leader in physical therapist education. Degrees are offered in a residential or hybrid format\, designed to meet the needs of all students applying to physical therapy programs. NAU’s Residential DPT programs are located at the Flagstaff Mountain and Phoenix Biosciences Core (PBC) campuses. NAU’s Hybrid DPT program offers instruction delivered synchronously and asynchronously via online modalities with periodic travel to one of NAU’s campuses for rich\, immersive\, in-person learning experiences. NAU’s programs follow a competency and entrustment-based education model\, and they are designed for completion in 25 months. \n  \nWednesday\, November 12th \n5:00 pm – 6:00 pm \nVirtual
URL:https://phoenixbiosciencecore.com/event/nau-physical-therapy-information-session-7/
LOCATION:Virtual
CATEGORIES:Academic,Information Session
END:VEVENT
BEGIN:VEVENT
DTSTART;TZID=America/Phoenix:20251113T000000
DTEND;TZID=America/Phoenix:20251114T235959
DTSTAMP:20260423T125334
CREATED:20250805T162857Z
LAST-MODIFIED:20250805T162857Z
UID:7792-1762992000-1763164799@phoenixbiosciencecore.com
SUMMARY:Promise Under Pressure: A Pivotal Point for Personalized Medicine
DESCRIPTION:  \nThursday\, November 13th – Friday\, November 14th \nIn Person \nRitz-Carlton Laguna Niguel
URL:https://phoenixbiosciencecore.com/event/promise-under-pressure-a-pivotal-point-for-personalized-medicine/
LOCATION:The Ritz-Carlton Laguna Niguel\, One Ritz Carlton Drive\, Dana Point\, CA\, 92629
CATEGORIES:Conference,Program,Research
END:VEVENT
BEGIN:VEVENT
DTSTART;TZID=America/Phoenix:20251113T090000
DTEND;TZID=America/Phoenix:20251113T110000
DTSTAMP:20260423T125334
CREATED:20251106T193900Z
LAST-MODIFIED:20251106T193900Z
UID:8779-1763024400-1763031600@phoenixbiosciencecore.com
SUMMARY:Founder Series  How and When to Raise Capital
DESCRIPTION:Raising capital can be one of the toughest — yet most important — parts of building a company. Join us for an honest conversation with founders who’ve successfully exited and investors who fund the next generation of startups. This session will break down what it really takes to prepare for outside investment and how to position your company for long-term success. \nOur panel will explore how to recognize when your company is ready for investment\, what milestones signal investor readiness\, and how to attract the right type of capital — from venture and angel investors to non-dilutive funding opportunities through agencies like the DoD\, NIH\, and BARDA. \n  \nThursday\, November 13th \n9:00 am – 11:oo am \nIn Person \nValley Metro
URL:https://phoenixbiosciencecore.com/event/founder-series-how-and-when-to-raise-capital/
LOCATION:Valley Metro\, 101 N 1st Ave\, Phoenix\, AZ\, 85003
CATEGORIES:Information Session,Program
END:VEVENT
BEGIN:VEVENT
DTSTART;TZID=America/Phoenix:20251113T120000
DTEND;TZID=America/Phoenix:20251113T130000
DTSTAMP:20260423T125334
CREATED:20251021T152111Z
LAST-MODIFIED:20251021T152111Z
UID:8675-1763035200-1763038800@phoenixbiosciencecore.com
SUMMARY:Health Talks - November 2025 When Clinicians Become Family Caregivers
DESCRIPTION:Join the College of Health Solutions for Health Talks\, our free webinar series exploring timely issues in health and health care. Experts from a variety of backgrounds share evidence-based information to help health professionals and community members address the challenges people face to stay healthy. These virtual events are offered as part of our mission to support the health of our communities and are open to anyone who seeks information and knowledge. \nZoom link will be provided in a confirmation email and in reminder emails after you have registered. \n  \nThursday\, November 13th \n12:00 pm – 1:00 pm \nVirtual
URL:https://phoenixbiosciencecore.com/event/health-talks-november-2025-when-clinicians-become-family-caregivers/
LOCATION:Virtual
CATEGORIES:Information Session,Research,Webinar
END:VEVENT
BEGIN:VEVENT
DTSTART;TZID=America/Phoenix:20251113T120000
DTEND;TZID=America/Phoenix:20251113T160000
DTSTAMP:20260423T125334
CREATED:20251105T164716Z
LAST-MODIFIED:20251105T164716Z
UID:8758-1763035200-1763049600@phoenixbiosciencecore.com
SUMMARY:Century of Discovery- 100 Years of VA Research
DESCRIPTION:  \nWe are delighted to invite you to join us for the Phoenix and Northern Arizona VA Research Symposium\, a premier event dedicated to showcasing the latest advancements and discoveries in research that benefit our veterans. \n  \nThursday\, November 13th \n12:00 pm – 4:00 pm \nIn Person \nBiomedical Sciences Partnership Building
URL:https://phoenixbiosciencecore.com/event/century-of-discovery-100-years-of-va-research/
LOCATION:Biomedical Sciences Partnership Building\, 475 North 5th St\, Phoenix\, AZ\, 85004
CATEGORIES:Information Session,Program,Tour
END:VEVENT
BEGIN:VEVENT
DTSTART;TZID=America/Phoenix:20251113T150000
DTEND;TZID=America/Phoenix:20251113T170000
DTSTAMP:20260423T125334
CREATED:20251029T202801Z
LAST-MODIFIED:20251029T202801Z
UID:8706-1763046000-1763053200@phoenixbiosciencecore.com
SUMMARY:NAU Phoenix Bioscience Core Campus Tour
DESCRIPTION:  \nIf an advanced degree in healthcare professions is your goal\, you are invited to join us for a campus tour and Q+A at NAU Phoenix Bioscience Core Campus.  Immediately following your tour\, you will have the opportunity to meet with the program coordinator from Athletic Training\, Occupational Therapy\, Physician Assistant Studies\, or Physical Therapy for program-specific information. \n  \nThursday\, November 13th \n3:00 pm – 5:00 pm \nIn Person \nNAU PBC
URL:https://phoenixbiosciencecore.com/event/nau-phoenix-bioscience-core-campus-tour-2/
LOCATION:NAU Downtown Phoenix Campus\, 435 N 5th St\, Phoenix\, AZ\, 85004
CATEGORIES:Information Session,Research
END:VEVENT
BEGIN:VEVENT
DTSTART;TZID=America/Phoenix:20251114T083000
DTEND;TZID=America/Phoenix:20251114T173000
DTSTAMP:20260423T125334
CREATED:20251015T170658Z
LAST-MODIFIED:20251015T170658Z
UID:8650-1763109000-1763141400@phoenixbiosciencecore.com
SUMMARY:Celebrating Innovation Summit 2025
DESCRIPTION:The Partnership for Economic Innovation’s Celebrating Innovation Summit 2025 \, co-sponsored by ASU\, brings together Arizona’s leading industry voices\, innovators\, and community partners for a day of ideas\, collaboration\, and technology in action. \nAttendees will explore the future of MedTech\, Aerospace & Defense\, Chips & AI\, Infrastructure\, and Workforce development through keynote conversations\, industry panels\, and live demonstrations. \nThe program also includes hands-on showcases and the Champions of Innovation Award\, celebrating the people and technologies shaping Arizona’s next economy.
URL:https://phoenixbiosciencecore.com/event/celebrating-innovation-summit-2025/
LOCATION:Media and Immersive Experience (MIX) Center\, 50 N Centennial Way\, Mesa\, AZ\, 85201
CATEGORIES:Celebration,Research,Showcase,Summit
END:VEVENT
BEGIN:VEVENT
DTSTART;TZID=America/Phoenix:20251115T080000
DTEND;TZID=America/Phoenix:20251116T180000
DTSTAMP:20260423T125334
CREATED:20250722T185951Z
LAST-MODIFIED:20250722T185951Z
UID:7682-1763193600-1763316000@phoenixbiosciencecore.com
SUMMARY:Neurology Conference 2025 USA
DESCRIPTION:PubScholars Group is delighted to welcome you to the 3rd Edition of the International Neurology Conference 2025\, a prestigious gathering that delves into the complexities of the brain and its profound connection to mental health. This year’s theme\, “Mind-Brain Connection: Understanding Neuroscience through Mental Health\,” highlights the intersection of neurological science and psychological well-being\, aiming to bridge cognitive and emotional domains.\nThe conference will explore key topics such as neuroplasticity\, the impact of trauma on brain function\, depression\, anxiety\, and emerging insights into the mind-brain axis. Building on the legacy of our past globally acclaimed Neuroscience Conferences\, this edition promises an engaging\, interdisciplinary platform for knowledge sharing and collaborative advancement. \nWe extend our warm invitation to neurologists\, psychologists\, clinical therapists\, neurosurgeons\, researchers\, and mental health professionals to join us in shaping the future of patient care and neuroscience innovation. Don’t miss this opportunity to contribute to meaningful dialogue\, present your research\, and expand your professional network. \n  \nSaturday\, November 15th – Sunday\, November 16th \n8:00 am – 6:00 pm \nIn Person \nHard Rock Hotel at Universal Orlando
URL:https://phoenixbiosciencecore.com/event/neurology-conference-2025-usa/
LOCATION:Hard Rock Hotel at Universal Orlando\, 5800 Universal Blvd\, Orlando\, FL\, 32819
CATEGORIES:Conference,Research
END:VEVENT
BEGIN:VEVENT
DTSTART;TZID=America/Phoenix:20251119T080000
DTEND;TZID=America/Phoenix:20251119T180000
DTSTAMP:20260423T125334
CREATED:20250826T192714Z
LAST-MODIFIED:20250826T192714Z
UID:7981-1763539200-1763575200@phoenixbiosciencecore.com
SUMMARY:FemTech Summit 2025
DESCRIPTION:Designing Tomorrow: A Blueprint for Women’s Health Innovation in Arizona \nHelp shape the future of women’s health. \n​This is not your typical healthcare event. FemTech Summit 2025 is where visionaries\, builders\, and bold changemakers converge to design what’s next in women’s health\, from breakthrough research to scalable startups\, from investment strategies to equitable policy shifts. \n​Whether you’re a founder\, investor\, scientist\, operator\, healthcare leader\, or policymaker\, this is your space to connect\, collaborate\, and catalyze action. If you’re committed to advancing women’s health innovation\, in Arizona and beyond\, this is where it all begins. \n  \nWednesday\, November 19th \n8:00 am – 6:00 pm \nIn Person \nPhoenix\, AZ
URL:https://phoenixbiosciencecore.com/event/femtech-summit-2025/
LOCATION:Phoenix
CATEGORIES:Research,Summit
END:VEVENT
BEGIN:VEVENT
DTSTART;TZID=America/Phoenix:20251120T080000
DTEND;TZID=America/Phoenix:20251120T170000
DTSTAMP:20260423T125334
CREATED:20251110T173026Z
LAST-MODIFIED:20251110T173026Z
UID:8786-1763625600-1763658000@phoenixbiosciencecore.com
SUMMARY:Arizona Business and Health Summit 2025
DESCRIPTION:  \nThe W. P. Carey School of Business at ASU is hosting the fourth annual Arizona Business and Health Summit on Thursday\, Nov. 20\, in collaboration with ASU Health\, including the College of Health Solutions and the School for Technology for Public Health. As in past years\, the summit is a place for researchers\, clinicians\, practitioners\, public policymakers\, and community partners to advance business and health throughout Arizona through increased collaboration. \nThe summit convenes leading minds in health care\, business\, and technology to address the profound impact of artificial intelligence on the health sector. Participants will engage with real-world case studies\, expert panels\, and interactive workshops focused on responsible AI adoption\, ethical governance\, and future-readiness. The summit will spotlight actionable strategies for leveraging AI to enhance patient care\, operational efficiency\, and community well-being\, while preparing for the next wave of agentic AI systems. \n\nThursday\, November 20th \n8:00 am – 5:00 pm \nIn Person \nW.P. Carey School of Business
URL:https://phoenixbiosciencecore.com/event/arizona-business-and-health-summit-2025/
LOCATION:W. P. Carey School of Business\, 450 E. Lemon St\, Tempe\, AZ\, 85281
CATEGORIES:Information Session,Networking,Program
END:VEVENT
BEGIN:VEVENT
DTSTART;TZID=America/Phoenix:20251120T173000
DTEND;TZID=America/Phoenix:20251120T193000
DTSTAMP:20260423T125334
CREATED:20251029T203809Z
LAST-MODIFIED:20251029T203809Z
UID:8708-1763659800-1763667000@phoenixbiosciencecore.com
SUMMARY:Visiting Professors Program: Inaugural Faculty Development Conference
DESCRIPTION:On Thursday\, November 20\, join us for two special presentations. Dinner will be provided\, so please RSVP in advance. A Zoom option will also be available for those who cannot attend in person. \nParking validation will be provided for the Phoenix Bioscience Core Garage. \n\nCampus Map (PDF).\n\n  \nNovice to Expert: Teaching at the Bedside Across Training Levels\nVijay Rajput\, MD\, MACP\nProfessor of Medicine ​​​​and Chair\nDepartment of Medical Education|\nNova Southeastern University College of Allopathic Medicine \n“Augenblick: The Sherlockian Approach to Observation”\nSalvatore Mangione\, MD\nAssociate Professor of Medicine\nAssociate Residency Program Director of Internal Medicine\nThomas Jefferson University Sidney Kimmel Medical College \n  \n  \nThursday\, November 20th \n5:30 pm – 7:30 pm \nIn Person or Virtual \nBSPB Rm. E113 & E115
URL:https://phoenixbiosciencecore.com/event/visiting-professors-program-inaugural-faculty-development-conference/
LOCATION:College of Medicine – Phoenix Biomedical Sciences Partnership Building\, 475 N. 5th St\, Phoenix\, AZ\, 85004\, United States
CATEGORIES:Information Session,Research,Visiting Professor
END:VEVENT
BEGIN:VEVENT
DTSTART;TZID=America/Phoenix:20251122T090000
DTEND;TZID=America/Phoenix:20251122T103000
DTSTAMP:20260423T125334
CREATED:20251021T152851Z
LAST-MODIFIED:20251021T152851Z
UID:8678-1763802000-1763807400@phoenixbiosciencecore.com
SUMMARY:Department of Ophthalmology Education Series
DESCRIPTION:Intraocular Lymphoma\n\nTo be able to recognize and distinguish intraocular lymphoma from simulating lesions\nTo understand the treatment options for intraocular lymphoma.\n\nUveal Melanocytic Tumors\n\nTo be able to recognize and distinguish benign and malignant uveal melanocytic tumors\nTo understand the treatment options for primary and metastatic uveal melanoma.\n\nSaturday\, November 22nd \n9:00 am – 10:30 am \nVirtual
URL:https://phoenixbiosciencecore.com/event/department-of-ophthalmology-education-series/
LOCATION:Virtual
CATEGORIES:Information Session,Research,Webinar
END:VEVENT
BEGIN:VEVENT
DTSTART;TZID=America/Phoenix:20251127T000000
DTEND;TZID=America/Phoenix:20251127T235959
DTSTAMP:20260423T125334
CREATED:20250813T211713Z
LAST-MODIFIED:20250813T211713Z
UID:7874-1764201600-1764287999@phoenixbiosciencecore.com
SUMMARY:Thanksgiving
DESCRIPTION:
URL:https://phoenixbiosciencecore.com/event/thanksgiving/
LOCATION:AZ
END:VEVENT
BEGIN:VEVENT
DTSTART;TZID=America/Phoenix:20251129T180000
DTEND;TZID=America/Phoenix:20251129T210000
DTSTAMP:20260423T125334
CREATED:20251124T161926Z
LAST-MODIFIED:20251124T161926Z
UID:8837-1764439200-1764450000@phoenixbiosciencecore.com
SUMMARY:PJs in The Park
DESCRIPTION:Put on your coziest pajamas and enjoy a holiday movie under the stars. PJs in the Park returns on Saturday\, November 29 from 6:00 – 9:00 p.m. with a FREE screening of the holiday favorite “The Santa Clause”\, as well as a short feature film\, “The Smurfs: A Christmas Carol”\, to kick off the night. \nBe sure to bring your camera or cell phone for a free photo with Santa. Also\, bring blankets and/or lawn chairs to sit on\, and enjoy delicious hot cocoa and snacks for purchase. Additionally\, feel free to bring along gifts (see wish list below) to donate during the event at a Holiday Gift Drive presented by New Pathways for Youth (NPFY). \n  \nSaturday\, November 29th \n6:00 pm – 9:00 pm \nIn Person \nPatriots Square at CityScape
URL:https://phoenixbiosciencecore.com/event/pjs-in-the-park/
LOCATION:Patriots Square at CityScape\, 11 W. Washington St.\, Phoenix\, AZ\, 85003
CATEGORIES:Celebration,Community,Festival
END:VEVENT
END:VCALENDAR