BEGIN:VCALENDAR
VERSION:2.0
PRODID:-//Phoenix Bioscience Core - ECPv6.15.20//NONSGML v1.0//EN
CALSCALE:GREGORIAN
METHOD:PUBLISH
X-WR-CALNAME:Phoenix Bioscience Core
X-ORIGINAL-URL:https://phoenixbiosciencecore.com
X-WR-CALDESC:Events for Phoenix Bioscience Core
REFRESH-INTERVAL;VALUE=DURATION:PT1H
X-Robots-Tag:noindex
X-PUBLISHED-TTL:PT1H
BEGIN:VTIMEZONE
TZID:America/Phoenix
BEGIN:STANDARD
TZOFFSETFROM:-0700
TZOFFSETTO:-0700
TZNAME:MST
DTSTART:20250101T000000
END:STANDARD
END:VTIMEZONE
BEGIN:VEVENT
DTSTART;TZID=America/Phoenix:20260101T000000
DTEND;TZID=America/Phoenix:20260101T235959
DTSTAMP:20260423T094154
CREATED:20251125T184611Z
LAST-MODIFIED:20251125T184611Z
UID:8876-1767225600-1767311999@phoenixbiosciencecore.com
SUMMARY:New Year's
DESCRIPTION:
URL:https://phoenixbiosciencecore.com/event/new-years/
LOCATION:AZ
END:VEVENT
BEGIN:VEVENT
DTSTART;TZID=America/Phoenix:20260105T080000
DTEND;TZID=America/Phoenix:20260105T170000
DTSTAMP:20260423T094154
CREATED:20260105T185043Z
LAST-MODIFIED:20260105T185043Z
UID:8992-1767600000-1767632400@phoenixbiosciencecore.com
SUMMARY:Caregiving and Self-Care in the New Year
DESCRIPTION:  \nThe new year offers chances to set boundaries and goals that support both caregiving responsibilities and personal well-being. This workshop provides practical strategies for defining actionable goals\, prioritizing self-care\, and caring for others while maintaining sustainable balance throughout the year. \nQuestions: Contact U of A Life & Work Connections. \n  \nTuesday\, January 13th \n11:00 am – 12:00 pm
URL:https://phoenixbiosciencecore.com/event/caregiving-and-self-care-in-the-new-year/
LOCATION:AZ
CATEGORIES:Information Session,Program,Research
END:VEVENT
BEGIN:VEVENT
DTSTART;TZID=America/Phoenix:20260108T200000
DTEND;TZID=America/Phoenix:20260108T220000
DTSTAMP:20260423T094154
CREATED:20260105T163736Z
LAST-MODIFIED:20260105T163736Z
UID:8964-1767902400-1767909600@phoenixbiosciencecore.com
SUMMARY:Drag LOTERÍA vs BINGO
DESCRIPTION:Where drag\, laughter\, and friendly chaos collide! Hosted by the fabulous Adriana Galliano & DJ Image\, this is NOT your average bingo night… it’s a full-on experience you don’t wanna miss! With live drag performances\, bonus rounds and surprise games\, drag comedy and audience interactions\, and amazing prizes. \nFree to play\, no tickets required!
URL:https://phoenixbiosciencecore.com/event/drag-loteria-vs-bingo/
LOCATION:The Pemberton\, 1121 N 2nd St\, Phoenix\, AZ\, 85004
CATEGORIES:Celebration
END:VEVENT
BEGIN:VEVENT
DTSTART;TZID=America/Phoenix:20260110T073000
DTEND;TZID=America/Phoenix:20260110T083000
DTSTAMP:20260423T094154
CREATED:20260105T171504Z
LAST-MODIFIED:20260105T171504Z
UID:8968-1768030200-1768033800@phoenixbiosciencecore.com
SUMMARY:Sparky’s Sunrise Hike
DESCRIPTION:Lace up those hiking shoes and start 2026 on the right foot with a refreshing sunrise hike up the iconic “A” Mountain. \n\nToast to the New Year with trail views\, sunrise hues and great company.\nFree\, family-friendly gathering.\nGet active and snap a photo or two with Sparky.\n\nEveryone is welcome at this event — bring your friends\, family\, neighbors and dogs! Don’t miss starting the year on a high note with a trek up one of ASU’s most famous landmarks. \n\nSaturday\, January 10th \n7:30 am – 8:30 am \nIn Person \n“A” Mountain
URL:https://phoenixbiosciencecore.com/event/sparkys-sunrise-hike/
LOCATION:“A” Mountain\, 201 S Packard Dr\, Tempe\, AZ\, 85281
CATEGORIES:Community
END:VEVENT
BEGIN:VEVENT
DTSTART;TZID=America/Phoenix:20260113T173000
DTEND;TZID=America/Phoenix:20260113T193000
DTSTAMP:20260423T094154
CREATED:20251215T180008Z
LAST-MODIFIED:20251215T180008Z
UID:8936-1768325400-1768332600@phoenixbiosciencecore.com
SUMMARY:Women in Medicine and Science Winter Networking Event
DESCRIPTION:Join us in person to connect\, share stories\, and empower women rocking medicine and science!\n\n\n\nWomen in Medicine and Science Winter Networking Event: \nWomen in Medicine and Science and the Office of Health Care Advancement invite the College of Medicine – Phoenix community to attend the WIMS Winter Networking Event. Join us and enjoy refreshments\, conversation\, and meeting new people. \n\n\n  \nTuesday\, January 13th \n5:30 pm – 7:30 pm \nVirginia Piper Auditorium \nIn Person
URL:https://phoenixbiosciencecore.com/event/women-in-medicine-and-science-winter-networking-event/
LOCATION:Virginia Piper Auditorium\, 600 E. Van Buren St.\, Phoenix\, AZ\, 85004
CATEGORIES:Networking,Professional Development,Program
END:VEVENT
BEGIN:VEVENT
DTSTART;TZID=America/Phoenix:20260114T090000
DTEND;TZID=America/Phoenix:20260114T100000
DTSTAMP:20260423T094154
CREATED:20260106T171802Z
LAST-MODIFIED:20260106T171802Z
UID:8998-1768381200-1768384800@phoenixbiosciencecore.com
SUMMARY:Pitch In- Elevating Entrepreneurs Across The Valley
DESCRIPTION:  \nAbout Pitch In \nWe’re excited to kick off another inspiring year of Pitch In\, a hybrid event series hosted by the J. Orin Edson Entrepreneurship + Innovation Institute at ASU. Whether you join us in person or virtually\, Pitch In is your opportunity to connect\, collaborate\, and contribute to Arizona’s thriving entrepreneurial community. \nEach event features two dynamic presenters\, each sharing a compelling 6-minute story about their entrepreneurial journey. Afterward\, the audience engages in a 20-minute Q&A\, helping connect each founder with the insights\, connections\, and resources they need to thrive. Every session begins with the powerful question: “What can the Pitch In community do for you?”—a reflection of our commitment to support and collaboration. \nJoin us virtually or in-person for this hybrid event powered by the J. Orin Edson Entrepreneurship + Innovation Institute at ASU! \nAttend In Person at Any of These Locations: \nChandler- E+I @ ASU Chandler Innovation Center (ACIC) \nMesa- E+I @ The Studios @ Mesa City Center \nPhoenix- E+I @ Fusion on First \nScottsdale- E+I 1951@SkySong \nVirtual- Zoom Link will be provided after you reserve your spot \n  \nWednesday\, January 14th \n9:00 am – 10:00 am \nIn Person \nE+I @ Fusion on First
URL:https://phoenixbiosciencecore.com/event/pitch-in-elevating-entrepreneurs-across-the-valley/
LOCATION:E+I @ Fusion on First\, 380 N. 1st Avenue\, Suite 125\, Phoenix\, AZ\, 85003
CATEGORIES:Community,Networking,Professional Development,Program
END:VEVENT
BEGIN:VEVENT
DTSTART;TZID=America/Phoenix:20260114T120000
DTEND;TZID=America/Phoenix:20260114T130000
DTSTAMP:20260423T094154
CREATED:20260105T174830Z
LAST-MODIFIED:20260105T174830Z
UID:8978-1768392000-1768395600@phoenixbiosciencecore.com
SUMMARY:ASU Employee Wellness 2026: Join HIP 2026 and earn incentives
DESCRIPTION:  \nThe new year has begun. Join the Health Impact Program and earn $25–$200 for taking care of yourself. This voluntary program enables you to take action\, track progress and earn points as you strive toward better health. ASU Employee Wellness program manager Liz Badalamenti will walk you through the steps to earn points toward your goal. This year\, participants must log at least 12\,500 points per quarter to be eligible for an incentive. All benefits-eligible state employees can participate. \n  \nWednesday\, January 14th \n12:00 pm – 1:00 pm \nVirtual
URL:https://phoenixbiosciencecore.com/event/asu-employee-wellness-2026-join-hip-2026-and-earn-incentives/
LOCATION:Virtual
CATEGORIES:Community,Health Screening,Information Session
END:VEVENT
BEGIN:VEVENT
DTSTART;TZID=America/Phoenix:20260117T080000
DTEND;TZID=America/Phoenix:20260117T153000
DTSTAMP:20260423T094154
CREATED:20260105T181850Z
LAST-MODIFIED:20260105T181850Z
UID:8987-1768636800-1768663800@phoenixbiosciencecore.com
SUMMARY:Pregnancy\, Parenthood\, and Pediatrics Conference
DESCRIPTION:  \n \nPregnancy\, Parenthood\, and Pediatrics: Advancing Mental Health for Women & Children is a one-day interdisciplinary conference that will empower primary and behavioral healthcare providers to confidently care for their perinatal\, child\, and adolescent patients living with psychiatric disorders. \nThis conference is being held due to the alarming shortage of psychiatrists\, psychologists\, social workers\, and other mental health specialists for perinatal and pediatric patients in need. With one in five women in the U.S. suffering from maternal mental health complications\, including addiction\, and with one in five youth between ages 3-17 in the U.S. suffering from an emotional\, developmental\, or behavioral disorder\, there is a significant mismatch between need and availability of care – with the need to empower more providers to care for these vulnerable populations. \n  \nSaturday\, January 17th \n8:00 am – 3:30 pm \nIn Person \nHacienda del Sol Guest Ranch Resort
URL:https://phoenixbiosciencecore.com/event/pregnancy-parenthood-and-pediatrics-conference/
LOCATION:Hacienda del Sol Guest Ranch Resort\, 5501 N Hacienda Del Sol Rd\, Tucson\, AZ\, 85718
CATEGORIES:Community,Conference,Program,Research
END:VEVENT
BEGIN:VEVENT
DTSTART;TZID=America/Phoenix:20260119T000000
DTEND;TZID=America/Phoenix:20260119T235959
DTSTAMP:20260423T094154
CREATED:20260106T160530Z
LAST-MODIFIED:20260106T160530Z
UID:8995-1768780800-1768867199@phoenixbiosciencecore.com
SUMMARY:Martin Luther King Jr. Day
DESCRIPTION:
URL:https://phoenixbiosciencecore.com/event/martin-luther-king-jr-day/
LOCATION:AZ
END:VEVENT
BEGIN:VEVENT
DTSTART;TZID=America/Phoenix:20260120T100000
DTEND;TZID=America/Phoenix:20260120T110000
DTSTAMP:20260423T094154
CREATED:20260114T202441Z
LAST-MODIFIED:20260114T202441Z
UID:9084-1768903200-1768906800@phoenixbiosciencecore.com
SUMMARY:Department of Translational Neurosciences. Special Guest Seminar
DESCRIPTION:  \n\n \n\n\n\n\n\n\n\n\n\n\n\n\nPresenter\n\n\n\n\n \nFranziska Auer\, PhD\nPostdoctoral Fellow\, Neuroscience Institute\nNYU Grossman School of Medicine\, NY \n\n\n\n\nTitle\n\nAuditory Processing and Modulation in the Auditory Cortex\n\nBiosketch\nDr. Franziska Auer is a postdoctoral fellow at the Neuroscience Institute at NYU Grossman School of Medicine. She earned her BSc in Pharmaceutical Sciences and her PhD in Systemic Neurosciences from Ludwig Maximilian University in Munich\, Germany. During her doctoral research\, Dr. Auer used longitudinal in vivo imaging in zebrafish to uncover mechanisms regulating myelin sheath length\, stability\, and patterning\, including identifying axonal Neurofascin clusters as key determinants of node of Ranvier positioning and myelin growth. In her postdoctoral work in the Schoppik Lab at NYU\, Dr. Auer studies how myelination shapes circuits and behavior. Her current work examines how hypomyelination affects balance behaviors\, eye movements\, and vestibular circuit function in zebrafish\, demonstrating that myelination differentially shapes distinct neural circuits and behaviors across development. Dr. Auer is the recipient of multiple honors\, including the NIH NIDCD Pathway to Independence Award (K99/R00). Her long-term goal is to establish an independent research program investigating the bidirectional interactions between myelin and neural circuits during maturation\, with implications for demyelinating diseases. \nTNS Host: Ebenezer Yamoah\, PhD\, Professor \nFor additional information\, please contact Deborah Benoit. \n\n  \n\n\n\n\n\n\n\n\n\n\n\n\n\nTuesday\, January 20th\n\n10:00 am – 11:00 am\n\nIn Person\n\nHealth Sciences Education Building (HSEB)
URL:https://phoenixbiosciencecore.com/event/department-of-translational-neurosciences-special-guest-seminar/
LOCATION:Health Science Education Building\, 435 N. 5th St\, Phoenix\, AZ\, 85004
CATEGORIES:Information Session,Program,Research
END:VEVENT
BEGIN:VEVENT
DTSTART;TZID=America/Phoenix:20260121T073000
DTEND;TZID=America/Phoenix:20260121T103000
DTSTAMP:20260423T094154
CREATED:20260105T180801Z
LAST-MODIFIED:20260105T180801Z
UID:8981-1768980600-1768991400@phoenixbiosciencecore.com
SUMMARY:ASU Employee Wellness 2026: Mini health screening — Tempe campus
DESCRIPTION:Benefits-eligible Arizona State University employees can get a 30-minute health screening. Several tests are free of charge\, including readings on cholesterol\, blood pressure and triglycerides. \nOther tests are available for as low as a $25 copay. Cash\, check\, MasterCard or Visa are accepted. Bring your ASU ID and health insurance cards. \nFasting for eight hours before the venous draw is required. Employees receive results in the mail within seven to 10 business days. Read more about how the tests are conducted online. \nThis event is HIP-endorsed\, a program available to the benefits-eligible state of Arizona employees. Find out more about the incentive-based HIP program online. \nASU employees receive one free mini-health screening per calendar year. Additional screenings are available for a fee paid directly to Healthwaves. \nWednesday\, January 21st \n7:30 am – 10:30 am \nIn Person \nMemorial Union 228
URL:https://phoenixbiosciencecore.com/event/asu-employee-wellness-2026-mini-health-screening-tempe-campus/
LOCATION:Memorial Union 228\, 301 E Orange St.\, Tempe\, AZ\, 85281
CATEGORIES:Health and Wellness,Health Screening
END:VEVENT
BEGIN:VEVENT
DTSTART;TZID=America/Phoenix:20260127T080000
DTEND;TZID=America/Phoenix:20260127T170000
DTSTAMP:20260423T094154
CREATED:20260127T171843Z
LAST-MODIFIED:20260127T171843Z
UID:9145-1769500800-1769533200@phoenixbiosciencecore.com
SUMMARY:Professional Identity Development as Educators
DESCRIPTION:Join us on Tuesday\, January 27\, for a special Faculty Development Conference — Professional Identity Development as Educators: Resources and Recommendations for Modeling Professionalism in the Learning Environment — featuring Natasha Keric\, MD\, division chief of Trauma\, Surgical Critical Care and Acute Care Surgery at the U of A College of Medicine – Phoenix. \nDr. Keric will co-present with Jennifer Hartmark-Hill\, MD — professor of Family\, Community and Preventive Medicine\, as well as director of the Longitudinal Clinical Experience and Faculty Instructional Development — and Francisco Lucio\, JD\, senior associate dean of the Office of Health Care Advancement. \nInvitees include all UME and GME faculty educators\, fellows and residents. Snacks will be provided. \nLearning Objectives\n\nDefine and discuss professional behaviors in the UME and GME learning environments.\nProvide an overview of “best practice” methods when delivering fair\, factual and directly observed feedback in the clinical setting.\n\n  \nTuesday\, January 27th \n5:30 pm – 6:30 pm \nIn Person \nBanner – University Medical Center Phoenix\, Oak Creek 1\, 2nd Floor (Canyons Conference Room)
URL:https://phoenixbiosciencecore.com/event/professional-identity-development-as-educators/
LOCATION:Banner – University Medical Center Phoenix\, Oak Creek 1\, 2nd Floor (Canyons Conference Room)\, 1111 E. McDowell Rd.\, Phoenix\, AZ\, 85006
CATEGORIES:Conference,Information Session,Research
END:VEVENT
BEGIN:VEVENT
DTSTART;TZID=America/Phoenix:20260130T083000
DTEND;TZID=America/Phoenix:20260130T133000
DTSTAMP:20260423T094154
CREATED:20260120T215717Z
LAST-MODIFIED:20260120T215717Z
UID:9106-1769761800-1769779800@phoenixbiosciencecore.com
SUMMARY:Graduate Research Symposium: “Discovery in the Desert”
DESCRIPTION:  \nThis year\, the theme is “Discovery in the Desert.” Attendees will: \n\nHear from keynote speaker John McKillip\, PhD\, Professor of Microbiology\, Ball State University on Bioprospecting for novel antibiotics to address the global MDR crisis\nExplore research from healthcare and medical lab sciences with 23 abstracts available at the symposium\nConnect with leading researchers\nNetwork with UJ faculty and discover opportunities for strategic collaboration\nInspire solutions to transform tomorrow\n\nFor more information\, please contact Dr. Kristin Lefebvre at kristin.lefebvre@uj.edu. \n  \nFriday\, January 30th \n8:30 am – 1:30 pm \nIn Person \nUniversity of Jamestown Phoenix\, Health Sciences and Graduate Center
URL:https://phoenixbiosciencecore.com/event/graduate-research-symposium-discovery-in-the-desert/
LOCATION:University of Jamestown Phoenix\, Health Sciences and Graduate Center\, 4405 E. Cotton Center Blvd\, Suite 120\, Phoenix\, AZ\, 85040
CATEGORIES:Networking,Professional Development,Program,Research,Showcase
END:VEVENT
BEGIN:VEVENT
DTSTART;TZID=America/Phoenix:20260130T090000
DTEND;TZID=America/Phoenix:20260130T100000
DTSTAMP:20260423T094154
CREATED:20260127T170359Z
LAST-MODIFIED:20260127T170359Z
UID:9136-1769763600-1769767200@phoenixbiosciencecore.com
SUMMARY:Coffee\, Consultation\, and Collaboration Series
DESCRIPTION:Raising Early-Stage Funding for Biotech Startups\nJoin us for a focused discussion on early-stage fundraising strategies for biotech startups\, including how to navigate investor expectations and successfully pitch to venture capital and angel investors. This session will provide participants with actionable insights and practical strategies for attracting early-stage investment\, improving fundraising success\, and aligning biotech ventures with market and investor expectations. \nKey Topics\n\nRaising early-stage funding for biotech startups\nNavigating investor expectations and due diligence\nStrategies for pitching to venture capital and angel investors\n\nRefreshments will be served. Please contact Dr. Dong Wang with any questions. \n  \nFriday\, January 30th \n9:00 am – 10:00 am \nIn Person \nBiomedical Sciences Partnership Building\, E112
URL:https://phoenixbiosciencecore.com/event/coffee-consultation-and-collaboration-series-2/
LOCATION:Biomedical Sciences Partnership Building\, 475 North 5th St\, Phoenix\, AZ\, 85004
CATEGORIES:Information Session,Networking,Professional Development,Research
END:VEVENT
BEGIN:VEVENT
DTSTART;TZID=America/Phoenix:20260131T090000
DTEND;TZID=America/Phoenix:20260131T110000
DTSTAMP:20260423T094154
CREATED:20260114T155039Z
LAST-MODIFIED:20260114T155039Z
UID:9073-1769850000-1769857200@phoenixbiosciencecore.com
SUMMARY:Midtown Neighborhood Quarterly Clean-Up
DESCRIPTION:  \nJoin us for our quarterly Midtown Neighborhood Clean-Up\, bringing neighbors\, volunteers\, and local partners together to keep our community vibrant\, welcoming\, and beautiful. \n\n👥 Volunteers Needed: 20–25 per event \nGreat for individuals\, families\, and groups! All supplies will be provided. \n📍 Location: Midtown Neighborhood \nCleanup coverage area: 3rd Avenue to 3rd Street\, between McDowell and Thomas. Exact meetup location provided after registration. \nHelp us build a cleaner\, stronger Midtown—together—in honor and continuation of the tradition started by Midtown Neighborhood Association community champion Margaret Dietrich. \n\n\nNeed to know\nPlease plan to wear closed-toe shoes as well as sunscreen! We will meet promptly at 9:00 a.m. Instructions\, gloves\, and garbage bags will be provided after check-in. Don’t forget to bring water with you in order to stay hydrated. If you have any questions about the event\, please contact Kathey Wagner\, kathey@b-ontheobvious.com. \n\n  \nSaturday\, January 31st \n9:00 am – 11:00 am \nIn Person \nMidtown Neighborhood
URL:https://phoenixbiosciencecore.com/event/midtown-neighborhood-quarterly-clean-up/
LOCATION:Midtown Neighborhood\, 1625 N Central Ave\, Phoenix\, AZ\, 85004
CATEGORIES:Community
END:VEVENT
END:VCALENDAR