BEGIN:VCALENDAR
VERSION:2.0
PRODID:-//Phoenix Bioscience Core - ECPv6.15.20//NONSGML v1.0//EN
CALSCALE:GREGORIAN
METHOD:PUBLISH
X-WR-CALNAME:Phoenix Bioscience Core
X-ORIGINAL-URL:https://phoenixbiosciencecore.com
X-WR-CALDESC:Events for Phoenix Bioscience Core
REFRESH-INTERVAL;VALUE=DURATION:PT1H
X-Robots-Tag:noindex
X-PUBLISHED-TTL:PT1H
BEGIN:VTIMEZONE
TZID:America/Phoenix
BEGIN:STANDARD
TZOFFSETFROM:-0700
TZOFFSETTO:-0700
TZNAME:MST
DTSTART:20250101T000000
END:STANDARD
END:VTIMEZONE
BEGIN:VEVENT
DTSTART;TZID=America/Phoenix:20260304T090000
DTEND;TZID=America/Phoenix:20260304T100000
DTSTAMP:20260423T062809
CREATED:20260225T221006Z
LAST-MODIFIED:20260225T221006Z
UID:9340-1772614800-1772618400@phoenixbiosciencecore.com
SUMMARY:Coffee with the XLR8 PBC Cohort
DESCRIPTION:  \nNetwork with the Fall 25 (F25)cohort\, spark collaboration\, and help connect the cohort to the wider Phoenix ecosystem! \n\n\n\n\nJoin us — and bring others from your network — for coffee and conversation with the XLR8 F25 cohort. This is a chance to offer guidance\, spark collaboration\, and help connect the cohort to the wider Phoenix bioscience\, healthcare\, and business ecosystem. Feel free to invite colleagues\, partners\, or anyone you believe could add value or would benefit from meeting these innovative teams. \nYour participation makes a real difference for these early-stage companies as they navigate the complexities of scaling in healthcare and medtech. We’d love for you to be part of these conversations and help shape the next wave of innovation. \n\n\n  \nWednesday\, March 4th \n9:00 am – 10:00 am \nIn Person \n850 PBC
URL:https://phoenixbiosciencecore.com/event/coffee-with-the-xlr8-pbc-cohort/
LOCATION:850 PBC\, 850 N. 5th Street\, Phoenix\, AZ\, 85003\, United States
CATEGORIES:Business Focused,Community,Information Session,Networking,Professional Development
END:VEVENT
BEGIN:VEVENT
DTSTART;TZID=America/Phoenix:20260305T073000
DTEND;TZID=America/Phoenix:20260305T180000
DTSTAMP:20260423T062809
CREATED:20260120T205821Z
LAST-MODIFIED:20260120T205821Z
UID:9102-1772695800-1772733600@phoenixbiosciencecore.com
SUMMARY:Flinn Foundation 2026 Bio Capital Conference
DESCRIPTION:  \nSave the date for the Flinn Foundation Bio Capital Conference—a high-energy day of networking and learning for bio sector leaders. \nFor Investors: Gain insight into Arizona’s growing base of high-quality emerging companies. \nFor Bio/Life Science Entrepreneurs: Engage with seasoned industry leaders and investors. \nFor Ecosystem Builders: Connect with partners shaping Arizona’s funding landscape. \nSeats are limited—register early to secure your spot. \n\nThursday\, March 5th \n7:30 am – 6:00 pm \nIn Person \nCreighton University Health Sciences Campus – Phoenix
URL:https://phoenixbiosciencecore.com/event/flinn-foundation-2026-bio-capital-conference/
LOCATION:Creighton University Health Sciences Campus – Phoenix\, 3100 North Central Avenue\, Phoenix\, AZ\, 85012
CATEGORIES:Business Focused,Conference,Health and Wellness,Networking,Professional Development,Research
END:VEVENT
BEGIN:VEVENT
DTSTART;TZID=America/Phoenix:20260311T090000
DTEND;TZID=America/Phoenix:20260311T100000
DTSTAMP:20260423T062809
CREATED:20260106T174035Z
LAST-MODIFIED:20260304T214940Z
UID:9005-1773219600-1773223200@phoenixbiosciencecore.com
SUMMARY:Pitch In- Elevating Entrepreneurs Across The Valley
DESCRIPTION:We’re excited to kick off another inspiring year of Pitch In\, a hybrid event series hosted by the J. Orin Edson Entrepreneurship + Innovation Institute at ASU. Whether you join us in person or virtually\, Pitch In is your opportunity to connect\, collaborate\, and contribute to Arizona’s thriving entrepreneurial community. \nEach event features two dynamic presenters\, each sharing a compelling 6-minute story about their entrepreneurial journey. Afterward\, the audience engages in a 20-minute Q&A\, helping connect each founder with the insights\, connections\, and resources they need to thrive. Every session begins with the powerful question: “What can the Pitch In community do for you?”—a reflection of our commitment to support and collaboration. \nJoin us virtually or in-person for this hybrid event powered by the J. Orin Edson Entrepreneurship + Innovation Institute at ASU! \n\n\n\n\n\n\n\n\nJoin the Pitch In community—where ideas grow and connections spark innovation. Be sure to connect with us on the WorldLabs Pitch In online platform and be part of the conversation all year long! \n\n\n\n\n\n\n\n\n\n\n\n\nA free\, hybrid entrepreneurial event open to everyone! Share what you are working on\, get real-time feedback\, and make resource connections!\n\n\n\n\n\n\nWednesday\, March 11th\n\n9:00 am – 10:00 am\n\nIn Person\n\n850 PBC
URL:https://phoenixbiosciencecore.com/event/pitch-in-elevating-entrepreneurs-across-the-valley-2/
LOCATION:850 PBC\, 850 N. 5th Street\, Phoenix\, AZ\, 85003\, United States
CATEGORIES:Networking,Professional Development,Program
END:VEVENT
BEGIN:VEVENT
DTSTART;TZID=America/Phoenix:20260311T090000
DTEND;TZID=America/Phoenix:20260313T170000
DTSTAMP:20260423T062809
CREATED:20260205T202519Z
LAST-MODIFIED:20260205T202519Z
UID:9240-1773219600-1773421200@phoenixbiosciencecore.com
SUMMARY:nf-core Global Bioinformatics Hackathon
DESCRIPTION:Join bioinformaticians\, nf-core contributors\, students\, postdocs\, PIs and industry professionals in downtown Phoenix to collaboratively build and improve nf-core pipelines\, modules\, tools and documentation. This in-person local hub runs in sync with the global nf-core hackathon and welcomes participants of all experience levels. \nRegistration will open on February 9 and be available via the official nf-core Hackathon website. \n\nDuring registration\, select Phoenix Bioscience Core as your hub.\n\nEvent Contacts\n\nDr. Isabelle Schrauwen.\nDr. Kanishka Manna.\nDaniel Mendoza.\nJash Trivedi.\n\n  \nWednesday\, March 11\, 9:00 AM to Friday\, March 13\, 5:00 PM \nIn Person \nHealth Sciences Education Building
URL:https://phoenixbiosciencecore.com/event/nf-core-global-bioinformatics-hackathon/
LOCATION:Health Sciences Education Building (HSEB)\, 435 N. 5th St\, Phoenix\, AZ\, 85004
CATEGORIES:Hackathon,Professional Development,Program,Research
END:VEVENT
BEGIN:VEVENT
DTSTART;TZID=America/Phoenix:20260312T000000
DTEND;TZID=America/Phoenix:20260314T235959
DTSTAMP:20260423T062809
CREATED:20250618T041527Z
LAST-MODIFIED:20250618T041527Z
UID:7429-1773273600-1773532799@phoenixbiosciencecore.com
SUMMARY:Neuroscience2026: Neuroscience\, Neurology\, and Brain Disorders
DESCRIPTION:We are delighted to invite you to the 2nd Global Summit on Neuroscience\, Neurology\, and Brain Disorders (NEUROSCIENCE2026)\, taking place from March 12-14\, 2026\, in London\, UK. This premier international forum will bring together leading experts to discuss the latest advancements in Neuroscience\, Neurology\, and Brain Disorders. \nBuilding on the success of our previous conference\, NEUROSCIENCE2025 in Valencia\, we are excited to continue promoting collaboration and advancements in the field. Let’s come together to celebrate our progress and explore new frontiers in neuroscience and brain disorders. \nThe summit brings together leading minds to explore breakthrough topics\, including Neurological Disorders and Stroke\, Alzheimer’s Disease and Dementia\, Brain Aging: Mechanisms and Interventions\, and Neuropsychiatry. The conference will host distinguished keynote speakers from leading institutions and healthcare professionals\, who will share valuable insights and engage in thought-provoking discussions. \nThursday\, March 12 – Saturday\, March 14 \nIn Person \nLondon\, UK
URL:https://phoenixbiosciencecore.com/event/neuroscience2026-neuroscience-neurology-and-brain-disorders/
LOCATION:London\, UK
CATEGORIES:Conference,Research
END:VEVENT
BEGIN:VEVENT
DTSTART;TZID=America/Phoenix:20260318T120000
DTEND;TZID=America/Phoenix:20260318T130000
DTSTAMP:20260423T062809
CREATED:20260304T183752Z
LAST-MODIFIED:20260304T183752Z
UID:9397-1773835200-1773838800@phoenixbiosciencecore.com
SUMMARY:ASU Health Grand Round
DESCRIPTION:“Tribal Health\, Technology and Opioid Use” featuring Nora D. Volkow\, MD; Director\, National Institute on Drug Abuse\, National Institutes of Health\nBe part of ASU Health’s signature speaker series: Grand Rounds\, a platform for dynamic discussions on the innovations\, breakthroughs and challenges shaping the future of health. Grand Rounds brings together leading experts to explore bold ideas\, from cutting-edge research to the use of technology in improving health care at scale. \nGrand Rounds fosters collaboration\, critical thinking and the exchange of ideas among those passionate about the health and health care fields. We invite you to engage in dynamic discussions\, share perspectives and gain insights into the most pressing issues facing the health and medical landscape. All are welcome to attend and contribute. \n  \nJoin us for an important and timely presentation exploring the intersection of tribal health\, emerging technologies and the ongoing opioid crisis. This event will examine how innovation\, research and community-driven approaches can help address substance use disorders in tribal communities and strengthen pathways to prevention\, treatment and recovery. \nWe are honored to welcome Dr. Nora D. Volkow\, director of the National Institute on Drug Abuse at the National Institutes of Health. As the leader of the world’s largest funder of scientific research on the health aspects of drug use and addiction\, Dr. Volkow brings unparalleled expertise and insight into the science of addiction\, public health strategies and the role technology can play in improving outcomes. \nThis presentation is ideal for health care professionals\, tribal members\, researchers\, policymakers\, students and community members interested in advancing health equity and addressing substance use through evidence-based and culturally grounded solutions. We invite you to attend\, learn and engage in this critical conversation. \n  \nWednesday\, March 18th \n12:00 pm – 1:00 pm \nIn Person or Virtual \nHealth North Building
URL:https://phoenixbiosciencecore.com/event/asu-health-grand-round/
LOCATION:Health North Building\, 550 N 3rd St\, Phoenix\, AZ\, 85004
CATEGORIES:Health Grand Round,Program,Research
END:VEVENT
BEGIN:VEVENT
DTSTART;TZID=America/Phoenix:20260320T090000
DTEND;TZID=America/Phoenix:20260320T170000
DTSTAMP:20260423T062809
CREATED:20251215T181355Z
LAST-MODIFIED:20251215T181355Z
UID:8946-1773997200-1774026000@phoenixbiosciencecore.com
SUMMARY:Match Day
DESCRIPTION:  \nMatch Day is the culmination of a complex year-long process that matches the nation’s graduating medical students with residency programs. \n  \nFriday\, March 20th \n9:00 am \nBiomedical Sciences Partnership Building \nIn Person \n 
URL:https://phoenixbiosciencecore.com/event/match-day/
LOCATION:Biomedical Sciences Partnership Building\, 475 North 5th St\, Phoenix\, AZ\, 85004
CATEGORIES:Academic,Community,Program
END:VEVENT
BEGIN:VEVENT
DTSTART;TZID=America/Phoenix:20260320T150000
DTEND;TZID=America/Phoenix:20260320T160000
DTSTAMP:20260423T062809
CREATED:20260310T160946Z
LAST-MODIFIED:20260310T160946Z
UID:9422-1774018800-1774022400@phoenixbiosciencecore.com
SUMMARY:NAU OT Workplace Wellness Workshops
DESCRIPTION:Experience Wellness with NAU OT Doctoral Students at 850 PBC. \n  \nWorkshops \nFriday\, March 20th \n3:00 pm – 3:45 pm \nIn Person \n850 PBC
URL:https://phoenixbiosciencecore.com/event/nau-ot-workplace-wellness-workshops/
LOCATION:850 PBC\, 850 N. 5th Street\, Phoenix\, AZ\, 85003\, United States
CATEGORIES:Academic,Learning Oppotunity,Program
END:VEVENT
BEGIN:VEVENT
DTSTART;TZID=America/Phoenix:20260325T080000
DTEND;TZID=America/Phoenix:20260325T170000
DTSTAMP:20260423T062809
CREATED:20260113T175920Z
LAST-MODIFIED:20260113T175920Z
UID:9066-1774425600-1774458000@phoenixbiosciencecore.com
SUMMARY:DTPHX Wellness Fair
DESCRIPTION:Embrace the fresh energy of Spring at the DTPHX Wellness Fair\, a celebration of self-care and community in the heart of the city. \nJoin us for a day dedicated to movement\, mindfulness\, and connection. Enjoy free workouts\, interact with local wellness vendors and businesses\, and discover new ways to nourish your mind\, body\, and soul. \nThis is a great opportunity for the local community to come together and explore the various health\, wellness\, and fitness options that Downtown Phoenix has to offer. \n  \nWednesday\, March 25th \nIn Person \nDowntown Phoenix
URL:https://phoenixbiosciencecore.com/event/dtphx-wellness-fair/
LOCATION:Downtown Phoenix\, 602 E Grant St\, Phoenix\, AZ\, 85004
CATEGORIES:Community,Festival,Health and Wellness
END:VEVENT
BEGIN:VEVENT
DTSTART;TZID=America/Phoenix:20260326T110000
DTEND;TZID=America/Phoenix:20260326T130000
DTSTAMP:20260423T062809
CREATED:20260303T230822Z
LAST-MODIFIED:20260303T230822Z
UID:9390-1774522800-1774530000@phoenixbiosciencecore.com
SUMMARY:HEALTH CAREER FAIR AND BOOKSTORE POPUP EVENT
DESCRIPTION:Even if you’re not job hunting yet\, participating can be beneficiall \n\nNetwork with industry professionals: Build connections that can lead to referrals or future collaborations\nExplore opportunities: Discover different roles\, internships\, or organizations\nGather information: Gain an understanding about the job application process\n\n  \nThursday\, March 26th \n11:00 am – 1:00 pm \nIn Person \nNAU PBC \n 
URL:https://phoenixbiosciencecore.com/event/health-career-fair-and-bookstore-popup-event/
LOCATION:NAU PBC\, 600 E. Van Buren Street\, Phoenix\, AZ\, 85004
CATEGORIES:Academic,Business Focused,Networking,Professional Development
END:VEVENT
END:VCALENDAR