BEGIN:VCALENDAR
VERSION:2.0
PRODID:-//Phoenix Bioscience Core - ECPv6.15.20//NONSGML v1.0//EN
CALSCALE:GREGORIAN
METHOD:PUBLISH
X-ORIGINAL-URL:https://phoenixbiosciencecore.com
X-WR-CALDESC:Events for Phoenix Bioscience Core
REFRESH-INTERVAL;VALUE=DURATION:PT1H
X-Robots-Tag:noindex
X-PUBLISHED-TTL:PT1H
BEGIN:VTIMEZONE
TZID:America/Phoenix
BEGIN:STANDARD
TZOFFSETFROM:-0700
TZOFFSETTO:-0700
TZNAME:MST
DTSTART:20250101T000000
END:STANDARD
END:VTIMEZONE
BEGIN:VEVENT
DTSTART;TZID=America/Phoenix:20260717T080000
DTEND;TZID=America/Phoenix:20260717T170000
DTSTAMP:20260423T092251
CREATED:20251215T181713Z
LAST-MODIFIED:20251215T181713Z
UID:8948-1784275200-1784307600@phoenixbiosciencecore.com
SUMMARY:Class of 2030 White Coat Ceremony
DESCRIPTION:  \n  \nThis event symbolizes the beginning of a lifelong journey in medicine\, as new students don their first white coats\, marking their commitment to compassionate care and excellence in their chosen profession. \n  \nFriday\, July 17th \nNorth Ballroom – Phoenix Convention Center \nIn Person
URL:https://phoenixbiosciencecore.com/event/class-of-2030-white-coat-ceremony/
LOCATION:North Ballroom of the Phoenix Convention Center\, 100 N 3rd St\, Phoenix\, AZ\, 85004\, United States
CATEGORIES:Academic,Celebration,Program,Showcase
END:VEVENT
END:VCALENDAR