BEGIN:VCALENDAR
VERSION:2.0
PRODID:-//Phoenix Bioscience Core - ECPv6.15.20//NONSGML v1.0//EN
CALSCALE:GREGORIAN
METHOD:PUBLISH
X-WR-CALNAME:Phoenix Bioscience Core
X-ORIGINAL-URL:https://phoenixbiosciencecore.com
X-WR-CALDESC:Events for Phoenix Bioscience Core
REFRESH-INTERVAL;VALUE=DURATION:PT1H
X-Robots-Tag:noindex
X-PUBLISHED-TTL:PT1H
BEGIN:VTIMEZONE
TZID:America/Phoenix
BEGIN:STANDARD
TZOFFSETFROM:-0700
TZOFFSETTO:-0700
TZNAME:MST
DTSTART:20250101T000000
END:STANDARD
END:VTIMEZONE
BEGIN:VEVENT
DTSTART;TZID=America/Phoenix:20260211T080000
DTEND;TZID=America/Phoenix:20260211T170000
DTSTAMP:20260423T062906
CREATED:20260106T173435Z
LAST-MODIFIED:20260106T173435Z
UID:9002-1770796800-1770829200@phoenixbiosciencecore.com
SUMMARY:Data Center and AI Infrastructure in Arizona: A Knowledge Exchange
DESCRIPTION:Arizona is at the center of a digital transformation. With it comes a growing need to balance energy reliability\, water sustainability and heat resilience. As data centers expand across the state\, this convening brings together industry experts\, policymakers\, utilities\, academics and community leaders. Together\, they will engage in informed\, collaborative dialogue on how Arizona can manage rapid growth\, protect critical resources\, support communities and ensure a reliable energy future. \nJoin us for panel discussions with industry leaders\, economic development experts\, utility partners\, community voices and municipal staff. \nPanel topics include:  \n\nData center perspectives\nEconomic development\nUtilities and energy planning\nCommunity perspectives\nCities and local perspectives\n\nYou’ll also gain access to insightful issue briefs on critical topics such as water\, heat and more. \nHosted by: \nJulie Ann Wrigley Global Futures Laboratory Energy Forward \n  \nWednesday\, February 11th \n8:00 am – 5:00 pm \nVirtual
URL:https://phoenixbiosciencecore.com/event/data-center-and-ai-infrastructure-in-arizona-a-knowledge-exchange/
LOCATION:Virtual
CATEGORIES:Information Session,Program,Research,Webinar
END:VEVENT
END:VCALENDAR