BEGIN:VCALENDAR
VERSION:2.0
PRODID:-//Phoenix Bioscience Core - ECPv6.15.20//NONSGML v1.0//EN
CALSCALE:GREGORIAN
METHOD:PUBLISH
X-ORIGINAL-URL:https://phoenixbiosciencecore.com
X-WR-CALDESC:Events for Phoenix Bioscience Core
REFRESH-INTERVAL;VALUE=DURATION:PT1H
X-Robots-Tag:noindex
X-PUBLISHED-TTL:PT1H
BEGIN:VTIMEZONE
TZID:America/Phoenix
BEGIN:STANDARD
TZOFFSETFROM:-0700
TZOFFSETTO:-0700
TZNAME:MST
DTSTART:20250101T000000
END:STANDARD
END:VTIMEZONE
BEGIN:VEVENT
DTSTART;TZID=America/Phoenix:20260513T090000
DTEND;TZID=America/Phoenix:20260513T100000
DTSTAMP:20260423T044920
CREATED:20260106T175417Z
LAST-MODIFIED:20260106T175417Z
UID:9008-1778662800-1778666400@phoenixbiosciencecore.com
SUMMARY:Pitch In- Elevating Entrepreneurs Across The Valley
DESCRIPTION:We’re excited to kick off another inspiring year of Pitch In\, a hybrid event series hosted by the J. Orin Edson Entrepreneurship + Innovation Institute at ASU. Whether you join us in person or virtually\, Pitch In is your opportunity to connect\, collaborate\, and contribute to Arizona’s thriving entrepreneurial community. \nEach event features two dynamic presenters\, each sharing a compelling 6-minute story about their entrepreneurial journey. Afterward\, the audience engages in a 20-minute Q&A\, helping connect each founder with the insights\, connections\, and resources they need to thrive. Every session begins with the powerful question: “What can the Pitch In community do for you?”—a reflection of our commitment to support and collaboration. \nJoin us virtually or in-person for this hybrid event powered by the J. Orin Edson Entrepreneurship + Innovation Institute at ASU! \n  \nWednesday\, May 13th \n9:00 am – 10:00 am \nIn Person \nE+I @ Fusion on First
URL:https://phoenixbiosciencecore.com/event/pitch-in-elevating-entrepreneurs-across-the-valley-3/
LOCATION:E+I @ Fusion on First\, 380 N. 1st Avenue\, Suite 125\, Phoenix\, AZ\, 85003
CATEGORIES:Information Session,Networking,Professional Development
END:VEVENT
END:VCALENDAR