BEGIN:VCALENDAR
VERSION:2.0
PRODID:-//Phoenix Bioscience Core - ECPv6.15.20//NONSGML v1.0//EN
CALSCALE:GREGORIAN
METHOD:PUBLISH
X-WR-CALNAME:Phoenix Bioscience Core
X-ORIGINAL-URL:https://phoenixbiosciencecore.com
X-WR-CALDESC:Events for Phoenix Bioscience Core
REFRESH-INTERVAL;VALUE=DURATION:PT1H
X-Robots-Tag:noindex
X-PUBLISHED-TTL:PT1H
BEGIN:VTIMEZONE
TZID:America/Phoenix
BEGIN:STANDARD
TZOFFSETFROM:-0700
TZOFFSETTO:-0700
TZNAME:MST
DTSTART:20250101T000000
END:STANDARD
END:VTIMEZONE
BEGIN:VEVENT
DTSTART;TZID=America/Phoenix:20260501T090000
DTEND;TZID=America/Phoenix:20260501T103000
DTSTAMP:20260423T095231
CREATED:20260421T162650Z
LAST-MODIFIED:20260421T162650Z
UID:9625-1777626000-1777631400@phoenixbiosciencecore.com
SUMMARY:Coffee\, Consultation\, and Collaboration Series
DESCRIPTION:From Discovery to Delivery: The Strategic Growth of NuvOx Therapeutics\nJoin us for an in-depth look at the development and growth of NuvOx Therapeutics\, a clinical-stage pharmaceutical company focused on drug development through an oxygen therapeutic. \nWe are excited to welcome industry leaders:\nRong Wang\, MBA\, President & Chief Executive Officer\, and Evan Unger\, MD\, Co-Founder & Executive Chairman \nObjective\nThis session provides researchers with snapshot of how to start\, develop\, and grow a company in the medical therapeutics space. We will learn about NuVox from early discovery to the current clinical trial phase and their plans for the future. This event is a part of the 2 Annual Research Week. \nRefreshments will be served. Please contact Dr. Dong Wang with any questions.\nRegister by April 24. \n  \nFriday\, May 1st \n9:15 am – 10:15 am \nIn Person \nHealth Sciences Education Building\, Room C104
URL:https://phoenixbiosciencecore.com/event/coffee-consultation-and-collaboration-series-3/
LOCATION:Health Sciences Education Building (HSEB)\, 435 N. 5th St\, Phoenix\, AZ\, 85004
CATEGORIES:Information Session,Learning Oppotunity,Research
END:VEVENT
BEGIN:VEVENT
DTSTART;TZID=America/Phoenix:20260513T173000
DTEND;TZID=America/Phoenix:20260513T193000
DTSTAMP:20260423T095231
CREATED:20260421T163747Z
LAST-MODIFIED:20260421T163747Z
UID:9627-1778693400-1778700600@phoenixbiosciencecore.com
SUMMARY:WIMS Annual Spring Dinner
DESCRIPTION:Join us for our Annual Spring Dinner\, featuring a keynote address by Patricia Prelock\, Provost of the University of Arizona. \nHosted by Women in Medicine and Science and the Office of Health Care Advancement\, this event brings together the College of Medicine – Phoenix community for an evening of connection\, recognition and inspiration. \nAll faculty\, trainees and staff are welcome to attend! \n  \nWednesday\, May 13th \n5:30 pm – 7:30 pm \nIn Person \nVirginia G Piper Auditorium
URL:https://phoenixbiosciencecore.com/event/wims-annual-spring-dinner/
LOCATION:Virginia Piper Auditorium\, 600 E. Van Buren St.\, Phoenix\, AZ\, 85004
CATEGORIES:Celebration,Community,Program,Roundtable
END:VEVENT
END:VCALENDAR