BEGIN:VCALENDAR
VERSION:2.0
PRODID:-//Phoenix Bioscience Core - ECPv6.15.20//NONSGML v1.0//EN
CALSCALE:GREGORIAN
METHOD:PUBLISH
X-ORIGINAL-URL:https://phoenixbiosciencecore.com
X-WR-CALDESC:Events for Phoenix Bioscience Core
REFRESH-INTERVAL;VALUE=DURATION:PT1H
X-Robots-Tag:noindex
X-PUBLISHED-TTL:PT1H
BEGIN:VTIMEZONE
TZID:America/Phoenix
BEGIN:STANDARD
TZOFFSETFROM:-0700
TZOFFSETTO:-0700
TZNAME:MST
DTSTART:20250101T000000
END:STANDARD
END:VTIMEZONE
BEGIN:VEVENT
DTSTART;TZID=America/Phoenix:20260401T120000
DTEND;TZID=America/Phoenix:20260401T130000
DTSTAMP:20260423T095340
CREATED:20260317T205654Z
LAST-MODIFIED:20260317T205654Z
UID:9460-1775044800-1775048400@phoenixbiosciencecore.com
SUMMARY:Muscle Making and Muscle Breaking : From Development to Disease and Beyond
DESCRIPTION:The Dean’s Distinguished Seminar welcomes Dr. Eric Olson presenting Muscle Making & Muscle Breaking: From Development to Disease and Beyond \n\n\n\n\nThe Dean’s Distinguished Seminar Series at the University of Arizona College of Medicine – Phoenix is designed to establish a premier campus seminar program featuring in-person research presentations by leading national and international scholars. Invited speakers represent the highest caliber of researchers from outside the University of Arizona and span the diverse scientific and clinical focus areas that define the College’s research mission. \nThis series aims to showcase innovative discoveries\, foster meaningful scientific exchange\, and strengthen connections between the College and the broader research community. By hosting distinguished experts and highlighting cutting-edge work across disciplines\, the program supports the continued growth of the College’s research enterprise. \nThrough increased visibility\, outreach\, and strategic promotion\, the Dean’s Distinguished Seminar Series will also help elevate awareness of the impactful research being conducted at the University of Arizona College of Medicine – Phoenix and reinforce the College’s reputation as a hub for advancing biomedical science and medical innovation. \n\n\n  \nWednesday\, April 1st \n12:00 pm – 1:00 pm \nIn Person \nHealth Sciences Education Building – Lecture Hall: C104
URL:https://phoenixbiosciencecore.com/event/muscle-making-and-muscle-breaking-from-development-to-disease-and-beyond/
LOCATION:Health Sciences Education Building (HSEB)\, 435 N. 5th St\, Phoenix\, AZ\, 85004
CATEGORIES:Learning Oppotunity,Professional Development,Research,Seminar
END:VEVENT
END:VCALENDAR